BEGIN:VCALENDAR
VERSION:2.0
PRODID:-//Game Point - ECPv6.15.20//NONSGML v1.0//EN
CALSCALE:GREGORIAN
METHOD:PUBLISH
X-WR-CALNAME:Game Point
X-ORIGINAL-URL:https://gamepointcafe.com
X-WR-CALDESC:Events for Game Point
REFRESH-INTERVAL;VALUE=DURATION:PT1H
X-Robots-Tag:noindex
X-PUBLISHED-TTL:PT1H
BEGIN:VTIMEZONE
TZID:America/Chicago
BEGIN:DAYLIGHT
TZOFFSETFROM:-0600
TZOFFSETTO:-0500
TZNAME:CDT
DTSTART:20250309T080000
END:DAYLIGHT
BEGIN:STANDARD
TZOFFSETFROM:-0500
TZOFFSETTO:-0600
TZNAME:CST
DTSTART:20251102T070000
END:STANDARD
BEGIN:DAYLIGHT
TZOFFSETFROM:-0600
TZOFFSETTO:-0500
TZNAME:CDT
DTSTART:20260308T080000
END:DAYLIGHT
BEGIN:STANDARD
TZOFFSETFROM:-0500
TZOFFSETTO:-0600
TZNAME:CST
DTSTART:20261101T070000
END:STANDARD
BEGIN:DAYLIGHT
TZOFFSETFROM:-0600
TZOFFSETTO:-0500
TZNAME:CDT
DTSTART:20270314T080000
END:DAYLIGHT
BEGIN:STANDARD
TZOFFSETFROM:-0500
TZOFFSETTO:-0600
TZNAME:CST
DTSTART:20271107T070000
END:STANDARD
END:VTIMEZONE
BEGIN:VEVENT
DTSTART;TZID=America/Chicago:20260419T150000
DTEND;TZID=America/Chicago:20260419T170000
DTSTAMP:20260421T072321
CREATED:20250628T202714Z
LAST-MODIFIED:20250628T202714Z
UID:10003138-1776610800-1776618000@gamepointcafe.com
SUMMARY:Nashville Catan Meetup
DESCRIPTION:Want to play some Catan and meet new people?  Then you need to be at Game Point Sunday afternoon at 3 pm.  The Nashville Catan Meetup will be at Game Point to (what else?) play some Catan. Even if you are new to the game\, come out and meet some new people and have some fun!
URL:https://gamepointcafe.com/event/nashville-catan-meetup-35/2026-04-19/
LOCATION:Game Point Cafe\, 107 S 11th Street\, Nashville\, TN\, 37206\, United States
CATEGORIES:Catan Event
ATTACH;FMTTYPE=image/png:https://gamepointcafe.com/wp-content/uploads/2018/06/Catan-Meetup.png
END:VEVENT
BEGIN:VEVENT
DTSTART;TZID=America/Chicago:20260419T170000
DTEND;TZID=America/Chicago:20260419T200000
DTSTAMP:20260421T072321
CREATED:20260325T004551Z
LAST-MODIFIED:20260325T004551Z
UID:10004176-1776618000-1776628800@gamepointcafe.com
SUMMARY:Dice Throne Tournament
DESCRIPTION:Come join in this ranked play event in Nashville! All players will receive alt art cards. Both new and experienced players are welcome and encouraged! Details and sign ups are available on Challonge!
URL:https://gamepointcafe.com/event/dice-throne-tournament-8/
LOCATION:Game Point Cafe\, 107 S 11th Street\, Nashville\, TN\, 37206\, United States
CATEGORIES:Game Gathering,Tournament
ATTACH;FMTTYPE=image/png:https://gamepointcafe.com/wp-content/uploads/2025/08/dicethrone.png
END:VEVENT
END:VCALENDAR