BEGIN:VCALENDAR
VERSION:2.0
PRODID:-//Game Point - ECPv6.15.20//NONSGML v1.0//EN
CALSCALE:GREGORIAN
METHOD:PUBLISH
X-WR-CALNAME:Game Point
X-ORIGINAL-URL:https://gamepointcafe.com
X-WR-CALDESC:Events for Game Point
REFRESH-INTERVAL;VALUE=DURATION:PT1H
X-Robots-Tag:noindex
X-PUBLISHED-TTL:PT1H
BEGIN:VTIMEZONE
TZID:America/Chicago
BEGIN:DAYLIGHT
TZOFFSETFROM:-0600
TZOFFSETTO:-0500
TZNAME:CDT
DTSTART:20250309T080000
END:DAYLIGHT
BEGIN:STANDARD
TZOFFSETFROM:-0500
TZOFFSETTO:-0600
TZNAME:CST
DTSTART:20251102T070000
END:STANDARD
BEGIN:DAYLIGHT
TZOFFSETFROM:-0600
TZOFFSETTO:-0500
TZNAME:CDT
DTSTART:20260308T080000
END:DAYLIGHT
BEGIN:STANDARD
TZOFFSETFROM:-0500
TZOFFSETTO:-0600
TZNAME:CST
DTSTART:20261101T070000
END:STANDARD
BEGIN:DAYLIGHT
TZOFFSETFROM:-0600
TZOFFSETTO:-0500
TZNAME:CDT
DTSTART:20270314T080000
END:DAYLIGHT
BEGIN:STANDARD
TZOFFSETFROM:-0500
TZOFFSETTO:-0600
TZNAME:CST
DTSTART:20271107T070000
END:STANDARD
END:VTIMEZONE
BEGIN:VEVENT
DTSTART;TZID=America/Chicago:20260422T183000
DTEND;TZID=America/Chicago:20260422T203000
DTSTAMP:20260422T031716
CREATED:20260316T143456Z
LAST-MODIFIED:20260316T143510Z
UID:10003873-1776882600-1776889800@gamepointcafe.com
SUMMARY:Nashville 30s and 40s Meetup Game Night (Reg Required)
DESCRIPTION:Are you looking to meet new people\, in our age group\, while marking a few things off your Nashville\, Tennessee or 2026 bucket list? If so\, this Meetup is for you! \nI’m looking forward to socializing over a cup of coffee/tea\, engaging in lively discussions and exploring all that Nashville has to offer! You know what they say… it’s not what you do in life that makes it fun—it’s who you do it with! \nLearn more about this meetup group and to sign up for their game night\, visit their Meetup.com page!
URL:https://gamepointcafe.com/event/nashville-30s-and-40s-meetup-game-night-reg-required/
LOCATION:Game Point Cafe\, 107 S 11th Street\, Nashville\, TN\, 37206\, United States
CATEGORIES:Game Gathering
ATTACH;FMTTYPE=image/png:https://gamepointcafe.com/wp-content/uploads/2025/03/3040.png
END:VEVENT
END:VCALENDAR