BEGIN:VCALENDAR
VERSION:2.0
PRODID:-//Game Point - ECPv6.15.20//NONSGML v1.0//EN
CALSCALE:GREGORIAN
METHOD:PUBLISH
X-ORIGINAL-URL:https://gamepointcafe.com
X-WR-CALDESC:Events for Game Point
REFRESH-INTERVAL;VALUE=DURATION:PT1H
X-Robots-Tag:noindex
X-PUBLISHED-TTL:PT1H
BEGIN:VTIMEZONE
TZID:America/Chicago
BEGIN:DAYLIGHT
TZOFFSETFROM:-0600
TZOFFSETTO:-0500
TZNAME:CDT
DTSTART:20220313T080000
END:DAYLIGHT
BEGIN:STANDARD
TZOFFSETFROM:-0500
TZOFFSETTO:-0600
TZNAME:CST
DTSTART:20221106T070000
END:STANDARD
BEGIN:DAYLIGHT
TZOFFSETFROM:-0600
TZOFFSETTO:-0500
TZNAME:CDT
DTSTART:20230312T080000
END:DAYLIGHT
BEGIN:STANDARD
TZOFFSETFROM:-0500
TZOFFSETTO:-0600
TZNAME:CST
DTSTART:20231105T070000
END:STANDARD
BEGIN:DAYLIGHT
TZOFFSETFROM:-0600
TZOFFSETTO:-0500
TZNAME:CDT
DTSTART:20240310T080000
END:DAYLIGHT
BEGIN:STANDARD
TZOFFSETFROM:-0500
TZOFFSETTO:-0600
TZNAME:CST
DTSTART:20241103T070000
END:STANDARD
BEGIN:DAYLIGHT
TZOFFSETFROM:-0600
TZOFFSETTO:-0500
TZNAME:CDT
DTSTART:20250309T080000
END:DAYLIGHT
BEGIN:STANDARD
TZOFFSETFROM:-0500
TZOFFSETTO:-0600
TZNAME:CST
DTSTART:20251102T070000
END:STANDARD
END:VTIMEZONE
BEGIN:VEVENT
DTSTART;TZID=America/Chicago:20240616T150000
DTEND;TZID=America/Chicago:20240616T170000
DTSTAMP:20260420T075242
CREATED:20230601T192831Z
LAST-MODIFIED:20241112T205028Z
UID:10000817-1718550000-1718557200@gamepointcafe.com
SUMMARY:Nashville Catan Meetup
DESCRIPTION:Want to play some Catan and meet new people?  Then you need to be at Game Point Sunday afternoon at 3 pm.  The Nashville Catan Meetup will be at Game Point to (what else?) play some Catan. Even if you are new to the game\, come out and meet some new people and have some fun!
URL:https://gamepointcafe.com/event/nashville-catan-meetup-33/2024-06-16/
LOCATION:Game Point Cafe\, 107 S 11th Street\, Nashville\, TN\, 37206\, United States
CATEGORIES:Catan Event
ATTACH;FMTTYPE=image/png:https://gamepointcafe.com/wp-content/uploads/2018/06/Catan-Meetup.png
END:VEVENT
BEGIN:VEVENT
DTSTART;TZID=America/Chicago:20240602T150000
DTEND;TZID=America/Chicago:20240602T170000
DTSTAMP:20260420T075242
CREATED:20230601T192831Z
LAST-MODIFIED:20241112T205028Z
UID:10000816-1717340400-1717347600@gamepointcafe.com
SUMMARY:Nashville Catan Meetup
DESCRIPTION:Want to play some Catan and meet new people?  Then you need to be at Game Point Sunday afternoon at 3 pm.  The Nashville Catan Meetup will be at Game Point to (what else?) play some Catan. Even if you are new to the game\, come out and meet some new people and have some fun!
URL:https://gamepointcafe.com/event/nashville-catan-meetup-33/2024-06-02/
LOCATION:Game Point Cafe\, 107 S 11th Street\, Nashville\, TN\, 37206\, United States
CATEGORIES:Catan Event
ATTACH;FMTTYPE=image/png:https://gamepointcafe.com/wp-content/uploads/2018/06/Catan-Meetup.png
END:VEVENT
BEGIN:VEVENT
DTSTART;TZID=America/Chicago:20240519T150000
DTEND;TZID=America/Chicago:20240519T170000
DTSTAMP:20260420T075242
CREATED:20230601T192831Z
LAST-MODIFIED:20241112T205028Z
UID:10000815-1716130800-1716138000@gamepointcafe.com
SUMMARY:Nashville Catan Meetup
DESCRIPTION:Want to play some Catan and meet new people?  Then you need to be at Game Point Sunday afternoon at 3 pm.  The Nashville Catan Meetup will be at Game Point to (what else?) play some Catan. Even if you are new to the game\, come out and meet some new people and have some fun!
URL:https://gamepointcafe.com/event/nashville-catan-meetup-33/2024-05-19/
LOCATION:Game Point Cafe\, 107 S 11th Street\, Nashville\, TN\, 37206\, United States
CATEGORIES:Catan Event
ATTACH;FMTTYPE=image/png:https://gamepointcafe.com/wp-content/uploads/2018/06/Catan-Meetup.png
END:VEVENT
BEGIN:VEVENT
DTSTART;TZID=America/Chicago:20240505T150000
DTEND;TZID=America/Chicago:20240505T170000
DTSTAMP:20260420T075242
CREATED:20230601T192831Z
LAST-MODIFIED:20241112T205028Z
UID:10000814-1714921200-1714928400@gamepointcafe.com
SUMMARY:Nashville Catan Meetup
DESCRIPTION:Want to play some Catan and meet new people?  Then you need to be at Game Point Sunday afternoon at 3 pm.  The Nashville Catan Meetup will be at Game Point to (what else?) play some Catan. Even if you are new to the game\, come out and meet some new people and have some fun!
URL:https://gamepointcafe.com/event/nashville-catan-meetup-33/2024-05-05/
LOCATION:Game Point Cafe\, 107 S 11th Street\, Nashville\, TN\, 37206\, United States
CATEGORIES:Catan Event
ATTACH;FMTTYPE=image/png:https://gamepointcafe.com/wp-content/uploads/2018/06/Catan-Meetup.png
END:VEVENT
BEGIN:VEVENT
DTSTART;TZID=America/Chicago:20240421T150000
DTEND;TZID=America/Chicago:20240421T170000
DTSTAMP:20260420T075242
CREATED:20230601T192831Z
LAST-MODIFIED:20241112T205028Z
UID:10000813-1713711600-1713718800@gamepointcafe.com
SUMMARY:Nashville Catan Meetup
DESCRIPTION:Want to play some Catan and meet new people?  Then you need to be at Game Point Sunday afternoon at 3 pm.  The Nashville Catan Meetup will be at Game Point to (what else?) play some Catan. Even if you are new to the game\, come out and meet some new people and have some fun!
URL:https://gamepointcafe.com/event/nashville-catan-meetup-33/2024-04-21/
LOCATION:Game Point Cafe\, 107 S 11th Street\, Nashville\, TN\, 37206\, United States
CATEGORIES:Catan Event
ATTACH;FMTTYPE=image/png:https://gamepointcafe.com/wp-content/uploads/2018/06/Catan-Meetup.png
END:VEVENT
BEGIN:VEVENT
DTSTART;TZID=America/Chicago:20240407T150000
DTEND;TZID=America/Chicago:20240407T170000
DTSTAMP:20260420T075242
CREATED:20230601T192831Z
LAST-MODIFIED:20241112T205028Z
UID:10000812-1712502000-1712509200@gamepointcafe.com
SUMMARY:Nashville Catan Meetup
DESCRIPTION:Want to play some Catan and meet new people?  Then you need to be at Game Point Sunday afternoon at 3 pm.  The Nashville Catan Meetup will be at Game Point to (what else?) play some Catan. Even if you are new to the game\, come out and meet some new people and have some fun!
URL:https://gamepointcafe.com/event/nashville-catan-meetup-33/2024-04-07/
LOCATION:Game Point Cafe\, 107 S 11th Street\, Nashville\, TN\, 37206\, United States
CATEGORIES:Catan Event
ATTACH;FMTTYPE=image/png:https://gamepointcafe.com/wp-content/uploads/2018/06/Catan-Meetup.png
END:VEVENT
BEGIN:VEVENT
DTSTART;TZID=America/Chicago:20240324T150000
DTEND;TZID=America/Chicago:20240324T170000
DTSTAMP:20260420T075242
CREATED:20230601T192831Z
LAST-MODIFIED:20241112T205028Z
UID:10000811-1711292400-1711299600@gamepointcafe.com
SUMMARY:Nashville Catan Meetup
DESCRIPTION:Want to play some Catan and meet new people?  Then you need to be at Game Point Sunday afternoon at 3 pm.  The Nashville Catan Meetup will be at Game Point to (what else?) play some Catan. Even if you are new to the game\, come out and meet some new people and have some fun!
URL:https://gamepointcafe.com/event/nashville-catan-meetup-33/2024-03-24/
LOCATION:Game Point Cafe\, 107 S 11th Street\, Nashville\, TN\, 37206\, United States
CATEGORIES:Catan Event
ATTACH;FMTTYPE=image/png:https://gamepointcafe.com/wp-content/uploads/2018/06/Catan-Meetup.png
END:VEVENT
BEGIN:VEVENT
DTSTART;TZID=America/Chicago:20240310T150000
DTEND;TZID=America/Chicago:20240310T170000
DTSTAMP:20260420T075242
CREATED:20230601T192831Z
LAST-MODIFIED:20241112T205028Z
UID:10000810-1710082800-1710090000@gamepointcafe.com
SUMMARY:Nashville Catan Meetup
DESCRIPTION:Want to play some Catan and meet new people?  Then you need to be at Game Point Sunday afternoon at 3 pm.  The Nashville Catan Meetup will be at Game Point to (what else?) play some Catan. Even if you are new to the game\, come out and meet some new people and have some fun!
URL:https://gamepointcafe.com/event/nashville-catan-meetup-33/2024-03-10/
LOCATION:Game Point Cafe\, 107 S 11th Street\, Nashville\, TN\, 37206\, United States
CATEGORIES:Catan Event
ATTACH;FMTTYPE=image/png:https://gamepointcafe.com/wp-content/uploads/2018/06/Catan-Meetup.png
END:VEVENT
BEGIN:VEVENT
DTSTART;TZID=America/Chicago:20240225T150000
DTEND;TZID=America/Chicago:20240225T170000
DTSTAMP:20260420T075242
CREATED:20230601T192831Z
LAST-MODIFIED:20241112T205028Z
UID:10000809-1708873200-1708880400@gamepointcafe.com
SUMMARY:Nashville Catan Meetup
DESCRIPTION:Want to play some Catan and meet new people?  Then you need to be at Game Point Sunday afternoon at 3 pm.  The Nashville Catan Meetup will be at Game Point to (what else?) play some Catan. Even if you are new to the game\, come out and meet some new people and have some fun!
URL:https://gamepointcafe.com/event/nashville-catan-meetup-33/2024-02-25/
LOCATION:Game Point Cafe\, 107 S 11th Street\, Nashville\, TN\, 37206\, United States
CATEGORIES:Catan Event
ATTACH;FMTTYPE=image/png:https://gamepointcafe.com/wp-content/uploads/2018/06/Catan-Meetup.png
END:VEVENT
BEGIN:VEVENT
DTSTART;TZID=America/Chicago:20240211T150000
DTEND;TZID=America/Chicago:20240211T170000
DTSTAMP:20260420T075242
CREATED:20230601T192831Z
LAST-MODIFIED:20241112T205028Z
UID:10000808-1707663600-1707670800@gamepointcafe.com
SUMMARY:Nashville Catan Meetup
DESCRIPTION:Want to play some Catan and meet new people?  Then you need to be at Game Point Sunday afternoon at 3 pm.  The Nashville Catan Meetup will be at Game Point to (what else?) play some Catan. Even if you are new to the game\, come out and meet some new people and have some fun!
URL:https://gamepointcafe.com/event/nashville-catan-meetup-33/2024-02-11/
LOCATION:Game Point Cafe\, 107 S 11th Street\, Nashville\, TN\, 37206\, United States
CATEGORIES:Catan Event
ATTACH;FMTTYPE=image/png:https://gamepointcafe.com/wp-content/uploads/2018/06/Catan-Meetup.png
END:VEVENT
BEGIN:VEVENT
DTSTART;TZID=America/Chicago:20240128T150000
DTEND;TZID=America/Chicago:20240128T170000
DTSTAMP:20260420T075242
CREATED:20230601T192831Z
LAST-MODIFIED:20241112T205028Z
UID:10000807-1706454000-1706461200@gamepointcafe.com
SUMMARY:Nashville Catan Meetup
DESCRIPTION:Want to play some Catan and meet new people?  Then you need to be at Game Point Sunday afternoon at 3 pm.  The Nashville Catan Meetup will be at Game Point to (what else?) play some Catan. Even if you are new to the game\, come out and meet some new people and have some fun!
URL:https://gamepointcafe.com/event/nashville-catan-meetup-33/2024-01-28/
LOCATION:Game Point Cafe\, 107 S 11th Street\, Nashville\, TN\, 37206\, United States
CATEGORIES:Catan Event
ATTACH;FMTTYPE=image/png:https://gamepointcafe.com/wp-content/uploads/2018/06/Catan-Meetup.png
END:VEVENT
BEGIN:VEVENT
DTSTART;TZID=America/Chicago:20240114T150000
DTEND;TZID=America/Chicago:20240114T170000
DTSTAMP:20260420T075242
CREATED:20230601T192831Z
LAST-MODIFIED:20241112T205028Z
UID:10000806-1705244400-1705251600@gamepointcafe.com
SUMMARY:Nashville Catan Meetup
DESCRIPTION:Want to play some Catan and meet new people?  Then you need to be at Game Point Sunday afternoon at 3 pm.  The Nashville Catan Meetup will be at Game Point to (what else?) play some Catan. Even if you are new to the game\, come out and meet some new people and have some fun!
URL:https://gamepointcafe.com/event/nashville-catan-meetup-33/2024-01-14/
LOCATION:Game Point Cafe\, 107 S 11th Street\, Nashville\, TN\, 37206\, United States
CATEGORIES:Catan Event
ATTACH;FMTTYPE=image/png:https://gamepointcafe.com/wp-content/uploads/2018/06/Catan-Meetup.png
END:VEVENT
BEGIN:VEVENT
DTSTART;TZID=America/Chicago:20231231T150000
DTEND;TZID=America/Chicago:20231231T170000
DTSTAMP:20260420T075243
CREATED:20230601T192831Z
LAST-MODIFIED:20241112T205028Z
UID:10000805-1704034800-1704042000@gamepointcafe.com
SUMMARY:Nashville Catan Meetup
DESCRIPTION:Want to play some Catan and meet new people?  Then you need to be at Game Point Sunday afternoon at 3 pm.  The Nashville Catan Meetup will be at Game Point to (what else?) play some Catan. Even if you are new to the game\, come out and meet some new people and have some fun!
URL:https://gamepointcafe.com/event/nashville-catan-meetup-33/2023-12-31/
LOCATION:Game Point Cafe\, 107 S 11th Street\, Nashville\, TN\, 37206\, United States
CATEGORIES:Catan Event
ATTACH;FMTTYPE=image/png:https://gamepointcafe.com/wp-content/uploads/2018/06/Catan-Meetup.png
END:VEVENT
BEGIN:VEVENT
DTSTART;TZID=America/Chicago:20231217T150000
DTEND;TZID=America/Chicago:20231217T170000
DTSTAMP:20260420T075243
CREATED:20230601T192831Z
LAST-MODIFIED:20241112T205028Z
UID:10000804-1702825200-1702832400@gamepointcafe.com
SUMMARY:Nashville Catan Meetup
DESCRIPTION:Want to play some Catan and meet new people?  Then you need to be at Game Point Sunday afternoon at 3 pm.  The Nashville Catan Meetup will be at Game Point to (what else?) play some Catan. Even if you are new to the game\, come out and meet some new people and have some fun!
URL:https://gamepointcafe.com/event/nashville-catan-meetup-33/2023-12-17/
LOCATION:Game Point Cafe\, 107 S 11th Street\, Nashville\, TN\, 37206\, United States
CATEGORIES:Catan Event
ATTACH;FMTTYPE=image/png:https://gamepointcafe.com/wp-content/uploads/2018/06/Catan-Meetup.png
END:VEVENT
BEGIN:VEVENT
DTSTART;TZID=America/Chicago:20231203T150000
DTEND;TZID=America/Chicago:20231203T170000
DTSTAMP:20260420T075243
CREATED:20230601T192831Z
LAST-MODIFIED:20241112T205028Z
UID:10000803-1701615600-1701622800@gamepointcafe.com
SUMMARY:Nashville Catan Meetup
DESCRIPTION:Want to play some Catan and meet new people?  Then you need to be at Game Point Sunday afternoon at 3 pm.  The Nashville Catan Meetup will be at Game Point to (what else?) play some Catan. Even if you are new to the game\, come out and meet some new people and have some fun!
URL:https://gamepointcafe.com/event/nashville-catan-meetup-33/2023-12-03/
LOCATION:Game Point Cafe\, 107 S 11th Street\, Nashville\, TN\, 37206\, United States
CATEGORIES:Catan Event
ATTACH;FMTTYPE=image/png:https://gamepointcafe.com/wp-content/uploads/2018/06/Catan-Meetup.png
END:VEVENT
BEGIN:VEVENT
DTSTART;TZID=America/Chicago:20231119T150000
DTEND;TZID=America/Chicago:20231119T170000
DTSTAMP:20260420T075243
CREATED:20230601T192831Z
LAST-MODIFIED:20241112T205028Z
UID:10000802-1700406000-1700413200@gamepointcafe.com
SUMMARY:Nashville Catan Meetup
DESCRIPTION:Want to play some Catan and meet new people?  Then you need to be at Game Point Sunday afternoon at 3 pm.  The Nashville Catan Meetup will be at Game Point to (what else?) play some Catan. Even if you are new to the game\, come out and meet some new people and have some fun!
URL:https://gamepointcafe.com/event/nashville-catan-meetup-33/2023-11-19/
LOCATION:Game Point Cafe\, 107 S 11th Street\, Nashville\, TN\, 37206\, United States
CATEGORIES:Catan Event
ATTACH;FMTTYPE=image/png:https://gamepointcafe.com/wp-content/uploads/2018/06/Catan-Meetup.png
END:VEVENT
BEGIN:VEVENT
DTSTART;TZID=America/Chicago:20231105T150000
DTEND;TZID=America/Chicago:20231105T170000
DTSTAMP:20260420T075243
CREATED:20230601T192831Z
LAST-MODIFIED:20241112T205028Z
UID:10000801-1699196400-1699203600@gamepointcafe.com
SUMMARY:Nashville Catan Meetup
DESCRIPTION:Want to play some Catan and meet new people?  Then you need to be at Game Point Sunday afternoon at 3 pm.  The Nashville Catan Meetup will be at Game Point to (what else?) play some Catan. Even if you are new to the game\, come out and meet some new people and have some fun!
URL:https://gamepointcafe.com/event/nashville-catan-meetup-33/2023-11-05/
LOCATION:Game Point Cafe\, 107 S 11th Street\, Nashville\, TN\, 37206\, United States
CATEGORIES:Catan Event
ATTACH;FMTTYPE=image/png:https://gamepointcafe.com/wp-content/uploads/2018/06/Catan-Meetup.png
END:VEVENT
BEGIN:VEVENT
DTSTART;TZID=America/Chicago:20231022T150000
DTEND;TZID=America/Chicago:20231022T170000
DTSTAMP:20260420T075243
CREATED:20230601T192831Z
LAST-MODIFIED:20241112T205028Z
UID:10000800-1697986800-1697994000@gamepointcafe.com
SUMMARY:Nashville Catan Meetup
DESCRIPTION:Want to play some Catan and meet new people?  Then you need to be at Game Point Sunday afternoon at 3 pm.  The Nashville Catan Meetup will be at Game Point to (what else?) play some Catan. Even if you are new to the game\, come out and meet some new people and have some fun!
URL:https://gamepointcafe.com/event/nashville-catan-meetup-33/2023-10-22/
LOCATION:Game Point Cafe\, 107 S 11th Street\, Nashville\, TN\, 37206\, United States
CATEGORIES:Catan Event
ATTACH;FMTTYPE=image/png:https://gamepointcafe.com/wp-content/uploads/2018/06/Catan-Meetup.png
END:VEVENT
BEGIN:VEVENT
DTSTART;TZID=America/Chicago:20231008T150000
DTEND;TZID=America/Chicago:20231008T170000
DTSTAMP:20260420T075243
CREATED:20230601T192831Z
LAST-MODIFIED:20241112T205028Z
UID:10000799-1696777200-1696784400@gamepointcafe.com
SUMMARY:Nashville Catan Meetup
DESCRIPTION:Want to play some Catan and meet new people?  Then you need to be at Game Point Sunday afternoon at 3 pm.  The Nashville Catan Meetup will be at Game Point to (what else?) play some Catan. Even if you are new to the game\, come out and meet some new people and have some fun!
URL:https://gamepointcafe.com/event/nashville-catan-meetup-33/2023-10-08/
LOCATION:Game Point Cafe\, 107 S 11th Street\, Nashville\, TN\, 37206\, United States
CATEGORIES:Catan Event
ATTACH;FMTTYPE=image/png:https://gamepointcafe.com/wp-content/uploads/2018/06/Catan-Meetup.png
END:VEVENT
BEGIN:VEVENT
DTSTART;TZID=America/Chicago:20230924T150000
DTEND;TZID=America/Chicago:20230924T170000
DTSTAMP:20260420T075243
CREATED:20230601T192831Z
LAST-MODIFIED:20241112T205028Z
UID:10000798-1695567600-1695574800@gamepointcafe.com
SUMMARY:Nashville Catan Meetup
DESCRIPTION:Want to play some Catan and meet new people?  Then you need to be at Game Point Sunday afternoon at 3 pm.  The Nashville Catan Meetup will be at Game Point to (what else?) play some Catan. Even if you are new to the game\, come out and meet some new people and have some fun!
URL:https://gamepointcafe.com/event/nashville-catan-meetup-33/2023-09-24/
LOCATION:Game Point Cafe\, 107 S 11th Street\, Nashville\, TN\, 37206\, United States
CATEGORIES:Catan Event
ATTACH;FMTTYPE=image/png:https://gamepointcafe.com/wp-content/uploads/2018/06/Catan-Meetup.png
END:VEVENT
BEGIN:VEVENT
DTSTART;TZID=America/Chicago:20230910T150000
DTEND;TZID=America/Chicago:20230910T170000
DTSTAMP:20260420T075243
CREATED:20230601T192831Z
LAST-MODIFIED:20241112T205028Z
UID:10000797-1694358000-1694365200@gamepointcafe.com
SUMMARY:Nashville Catan Meetup
DESCRIPTION:Want to play some Catan and meet new people?  Then you need to be at Game Point Sunday afternoon at 3 pm.  The Nashville Catan Meetup will be at Game Point to (what else?) play some Catan. Even if you are new to the game\, come out and meet some new people and have some fun!
URL:https://gamepointcafe.com/event/nashville-catan-meetup-33/2023-09-10/
LOCATION:Game Point Cafe\, 107 S 11th Street\, Nashville\, TN\, 37206\, United States
CATEGORIES:Catan Event
ATTACH;FMTTYPE=image/png:https://gamepointcafe.com/wp-content/uploads/2018/06/Catan-Meetup.png
END:VEVENT
BEGIN:VEVENT
DTSTART;TZID=America/Chicago:20230827T150000
DTEND;TZID=America/Chicago:20230827T170000
DTSTAMP:20260420T075243
CREATED:20230601T192831Z
LAST-MODIFIED:20241112T205028Z
UID:10000796-1693148400-1693155600@gamepointcafe.com
SUMMARY:Nashville Catan Meetup
DESCRIPTION:Want to play some Catan and meet new people?  Then you need to be at Game Point Sunday afternoon at 3 pm.  The Nashville Catan Meetup will be at Game Point to (what else?) play some Catan. Even if you are new to the game\, come out and meet some new people and have some fun!
URL:https://gamepointcafe.com/event/nashville-catan-meetup-33/2023-08-27/
LOCATION:Game Point Cafe\, 107 S 11th Street\, Nashville\, TN\, 37206\, United States
CATEGORIES:Catan Event
ATTACH;FMTTYPE=image/png:https://gamepointcafe.com/wp-content/uploads/2018/06/Catan-Meetup.png
END:VEVENT
BEGIN:VEVENT
DTSTART;TZID=America/Chicago:20230813T150000
DTEND;TZID=America/Chicago:20230813T170000
DTSTAMP:20260420T075243
CREATED:20230601T192831Z
LAST-MODIFIED:20241112T205028Z
UID:10000795-1691938800-1691946000@gamepointcafe.com
SUMMARY:Nashville Catan Meetup
DESCRIPTION:Want to play some Catan and meet new people?  Then you need to be at Game Point Sunday afternoon at 3 pm.  The Nashville Catan Meetup will be at Game Point to (what else?) play some Catan. Even if you are new to the game\, come out and meet some new people and have some fun!
URL:https://gamepointcafe.com/event/nashville-catan-meetup-33/2023-08-13/
LOCATION:Game Point Cafe\, 107 S 11th Street\, Nashville\, TN\, 37206\, United States
CATEGORIES:Catan Event
ATTACH;FMTTYPE=image/png:https://gamepointcafe.com/wp-content/uploads/2018/06/Catan-Meetup.png
END:VEVENT
BEGIN:VEVENT
DTSTART;TZID=America/Chicago:20230730T150000
DTEND;TZID=America/Chicago:20230730T170000
DTSTAMP:20260420T075243
CREATED:20230601T192831Z
LAST-MODIFIED:20241112T205028Z
UID:10000794-1690729200-1690736400@gamepointcafe.com
SUMMARY:Nashville Catan Meetup
DESCRIPTION:Want to play some Catan and meet new people?  Then you need to be at Game Point Sunday afternoon at 3 pm.  The Nashville Catan Meetup will be at Game Point to (what else?) play some Catan. Even if you are new to the game\, come out and meet some new people and have some fun!
URL:https://gamepointcafe.com/event/nashville-catan-meetup-33/2023-07-30/
LOCATION:Game Point Cafe\, 107 S 11th Street\, Nashville\, TN\, 37206\, United States
CATEGORIES:Catan Event
ATTACH;FMTTYPE=image/png:https://gamepointcafe.com/wp-content/uploads/2018/06/Catan-Meetup.png
END:VEVENT
BEGIN:VEVENT
DTSTART;TZID=America/Chicago:20230716T150000
DTEND;TZID=America/Chicago:20230716T170000
DTSTAMP:20260420T075243
CREATED:20230601T192831Z
LAST-MODIFIED:20241112T205028Z
UID:10000793-1689519600-1689526800@gamepointcafe.com
SUMMARY:Nashville Catan Meetup
DESCRIPTION:Want to play some Catan and meet new people?  Then you need to be at Game Point Sunday afternoon at 3 pm.  The Nashville Catan Meetup will be at Game Point to (what else?) play some Catan. Even if you are new to the game\, come out and meet some new people and have some fun!
URL:https://gamepointcafe.com/event/nashville-catan-meetup-33/2023-07-16/
LOCATION:Game Point Cafe\, 107 S 11th Street\, Nashville\, TN\, 37206\, United States
CATEGORIES:Catan Event
ATTACH;FMTTYPE=image/png:https://gamepointcafe.com/wp-content/uploads/2018/06/Catan-Meetup.png
END:VEVENT
BEGIN:VEVENT
DTSTART;TZID=America/Chicago:20230702T150000
DTEND;TZID=America/Chicago:20230702T170000
DTSTAMP:20260420T075243
CREATED:20230601T192831Z
LAST-MODIFIED:20241112T205028Z
UID:10000792-1688310000-1688317200@gamepointcafe.com
SUMMARY:Nashville Catan Meetup
DESCRIPTION:Want to play some Catan and meet new people?  Then you need to be at Game Point Sunday afternoon at 3 pm.  The Nashville Catan Meetup will be at Game Point to (what else?) play some Catan. Even if you are new to the game\, come out and meet some new people and have some fun!
URL:https://gamepointcafe.com/event/nashville-catan-meetup-33/2023-07-02/
LOCATION:Game Point Cafe\, 107 S 11th Street\, Nashville\, TN\, 37206\, United States
CATEGORIES:Catan Event
ATTACH;FMTTYPE=image/png:https://gamepointcafe.com/wp-content/uploads/2018/06/Catan-Meetup.png
END:VEVENT
BEGIN:VEVENT
DTSTART;TZID=America/Chicago:20230618T150000
DTEND;TZID=America/Chicago:20230618T170000
DTSTAMP:20260420T075243
CREATED:20230601T192831Z
LAST-MODIFIED:20241112T205028Z
UID:10000791-1687100400-1687107600@gamepointcafe.com
SUMMARY:Nashville Catan Meetup
DESCRIPTION:Want to play some Catan and meet new people?  Then you need to be at Game Point Sunday afternoon at 3 pm.  The Nashville Catan Meetup will be at Game Point to (what else?) play some Catan. Even if you are new to the game\, come out and meet some new people and have some fun!
URL:https://gamepointcafe.com/event/nashville-catan-meetup-33/2023-06-18/
LOCATION:Game Point Cafe\, 107 S 11th Street\, Nashville\, TN\, 37206\, United States
CATEGORIES:Catan Event
ATTACH;FMTTYPE=image/png:https://gamepointcafe.com/wp-content/uploads/2018/06/Catan-Meetup.png
END:VEVENT
BEGIN:VEVENT
DTSTART;TZID=America/Chicago:20230604T150000
DTEND;TZID=America/Chicago:20230604T170000
DTSTAMP:20260420T075243
CREATED:20230601T192831Z
LAST-MODIFIED:20241112T205028Z
UID:10000790-1685890800-1685898000@gamepointcafe.com
SUMMARY:Nashville Catan Meetup
DESCRIPTION:Want to play some Catan and meet new people?  Then you need to be at Game Point Sunday afternoon at 3 pm.  The Nashville Catan Meetup will be at Game Point to (what else?) play some Catan. Even if you are new to the game\, come out and meet some new people and have some fun!
URL:https://gamepointcafe.com/event/nashville-catan-meetup-33/2023-06-04/
LOCATION:Game Point Cafe\, 107 S 11th Street\, Nashville\, TN\, 37206\, United States
CATEGORIES:Catan Event
ATTACH;FMTTYPE=image/png:https://gamepointcafe.com/wp-content/uploads/2018/06/Catan-Meetup.png
END:VEVENT
BEGIN:VEVENT
DTSTART;TZID=America/Chicago:20230507T150000
DTEND;TZID=America/Chicago:20230507T170000
DTSTAMP:20260420T075243
CREATED:20230506T035442Z
LAST-MODIFIED:20230506T035442Z
UID:10000654-1683471600-1683478800@gamepointcafe.com
SUMMARY:Nashville Catan Meetup
DESCRIPTION:Want to play some Catan and meet new people?  Then you need to be at Game Point Sunday afternoon at 3 pm.  The Nashville Catan Meetup will be at Game Point to (what else?) play some Catan. Even if you are new to the game\, come out and meet some new people and have some fun!
URL:https://gamepointcafe.com/event/nashville-catan-meetup-32/
LOCATION:Game Point Cafe\, 107 S 11th Street\, Nashville\, TN\, 37206\, United States
CATEGORIES:Catan Event
END:VEVENT
BEGIN:VEVENT
DTSTART;TZID=America/Chicago:20230326T150000
DTEND;TZID=America/Chicago:20230326T170000
DTSTAMP:20260420T075243
CREATED:20230214T185922Z
LAST-MODIFIED:20230214T185922Z
UID:10000640-1679842800-1679850000@gamepointcafe.com
SUMMARY:Nashville Catan Meetup
DESCRIPTION:Want to play some Catan and meet new people?  Then you need to be at Game Point Sunday afternoon at 3 pm.  The Nashville Catan Meetup will be at Game Point to (what else?) play some Catan. Even if you are new to the game\, come out and meet some new people and have some fun!
URL:https://gamepointcafe.com/event/nashville-catan-meetup-29/
LOCATION:Game Point Cafe\, 107 S 11th Street\, Nashville\, TN\, 37206\, United States
CATEGORIES:Catan Event
ATTACH;FMTTYPE=image/png:https://gamepointcafe.com/wp-content/uploads/2018/06/Catan-Meetup.png
END:VEVENT
END:VCALENDAR