BEGIN:VCALENDAR
VERSION:2.0
PRODID:-//Game Point - ECPv6.15.20//NONSGML v1.0//EN
CALSCALE:GREGORIAN
METHOD:PUBLISH
X-WR-CALNAME:Game Point
X-ORIGINAL-URL:https://gamepointcafe.com
X-WR-CALDESC:Events for Game Point
REFRESH-INTERVAL;VALUE=DURATION:PT1H
X-Robots-Tag:noindex
X-PUBLISHED-TTL:PT1H
BEGIN:VTIMEZONE
TZID:America/Chicago
BEGIN:DAYLIGHT
TZOFFSETFROM:-0600
TZOFFSETTO:-0500
TZNAME:CDT
DTSTART:20240310T080000
END:DAYLIGHT
BEGIN:STANDARD
TZOFFSETFROM:-0500
TZOFFSETTO:-0600
TZNAME:CST
DTSTART:20241103T070000
END:STANDARD
BEGIN:DAYLIGHT
TZOFFSETFROM:-0600
TZOFFSETTO:-0500
TZNAME:CDT
DTSTART:20250309T080000
END:DAYLIGHT
BEGIN:STANDARD
TZOFFSETFROM:-0500
TZOFFSETTO:-0600
TZNAME:CST
DTSTART:20251102T070000
END:STANDARD
BEGIN:DAYLIGHT
TZOFFSETFROM:-0600
TZOFFSETTO:-0500
TZNAME:CDT
DTSTART:20260308T080000
END:DAYLIGHT
BEGIN:STANDARD
TZOFFSETFROM:-0500
TZOFFSETTO:-0600
TZNAME:CST
DTSTART:20261101T070000
END:STANDARD
END:VTIMEZONE
BEGIN:VEVENT
DTSTART;VALUE=DATE:20250101
DTEND;VALUE=DATE:20250102
DTSTAMP:20260423T005038
CREATED:20241217T202703Z
LAST-MODIFIED:20241217T202703Z
UID:10002711-1735689600-1735775999@gamepointcafe.com
SUMMARY:Closed for New Year's Day
DESCRIPTION:Happy 2025 – make some resolutions to play more board games!  And then come start working on those with us\, tomorrow!
URL:https://gamepointcafe.com/event/closed-for-new-years-day-2/
LOCATION:Game Point Cafe\, 107 S 11th Street\, Nashville\, TN\, 37206\, United States
CATEGORIES:Closed
END:VEVENT
END:VCALENDAR