BEGIN:VCALENDAR
VERSION:2.0
PRODID:-//Game Point - ECPv6.15.20//NONSGML v1.0//EN
CALSCALE:GREGORIAN
METHOD:PUBLISH
X-ORIGINAL-URL:https://gamepointcafe.com
X-WR-CALDESC:Events for Game Point
REFRESH-INTERVAL;VALUE=DURATION:PT1H
X-Robots-Tag:noindex
X-PUBLISHED-TTL:PT1H
BEGIN:VTIMEZONE
TZID:America/Chicago
BEGIN:DAYLIGHT
TZOFFSETFROM:-0600
TZOFFSETTO:-0500
TZNAME:CDT
DTSTART:20210314T080000
END:DAYLIGHT
BEGIN:STANDARD
TZOFFSETFROM:-0500
TZOFFSETTO:-0600
TZNAME:CST
DTSTART:20211107T070000
END:STANDARD
BEGIN:DAYLIGHT
TZOFFSETFROM:-0600
TZOFFSETTO:-0500
TZNAME:CDT
DTSTART:20220313T080000
END:DAYLIGHT
BEGIN:STANDARD
TZOFFSETFROM:-0500
TZOFFSETTO:-0600
TZNAME:CST
DTSTART:20221106T070000
END:STANDARD
BEGIN:DAYLIGHT
TZOFFSETFROM:-0600
TZOFFSETTO:-0500
TZNAME:CDT
DTSTART:20230312T080000
END:DAYLIGHT
BEGIN:STANDARD
TZOFFSETFROM:-0500
TZOFFSETTO:-0600
TZNAME:CST
DTSTART:20231105T070000
END:STANDARD
END:VTIMEZONE
BEGIN:VEVENT
DTSTART;TZID=America/Chicago:20220705T183000
DTEND;TZID=America/Chicago:20220705T220000
DTSTAMP:20260420T230808
CREATED:20220605T134648Z
LAST-MODIFIED:20220605T134648Z
UID:10000508-1657045800-1657058400@gamepointcafe.com
SUMMARY:Chess Night
DESCRIPTION:All skill levels are welcome at our monthly Chess Night at Game Point (first Tuesday of the month).  We’ll have a number of boards available for people to come in for a game.  In the before COVID times\, we had a number of people come in that had only played on the internet – and they commented how fun it was to play face to face.  You should be one of those faces! \nFor very new players\, one of our regulars won the 2020 Tennessee Open Amateur Division and would love to give some free lessons and pointers\, so come take advantage! \nChess Night happens monthly. Games happen throughout the night\, usually timed games (through chess timer phone apps).  We have a lot of sets\, so just show up\, order a drink\, and play!
URL:https://gamepointcafe.com/event/chess-night-33/
LOCATION:Game Point Cafe\, 107 S 11th Street\, Nashville\, TN\, 37206\, United States
CATEGORIES:Game Gathering
ATTACH;FMTTYPE=image/png:https://gamepointcafe.com/wp-content/uploads/2018/04/chessnight.png
END:VEVENT
BEGIN:VEVENT
DTSTART;TZID=America/Chicago:20220707T183000
DTEND;TZID=America/Chicago:20220707T220000
DTSTAMP:20260420T230808
CREATED:20220605T134911Z
LAST-MODIFIED:20220605T134911Z
UID:10000507-1657218600-1657231200@gamepointcafe.com
SUMMARY:Keyforge: New Player Night
DESCRIPTION:Interested in Keyforge?  Tonight’s for you.  Our regular community of players will be having an open play night\, but it’s a perfect night to try out the game with us.  New players will be given a free deck to play and take home!  Come on out at 6:30 pm and forge some keys!
URL:https://gamepointcafe.com/event/keyforge-new-player-night-3/
LOCATION:Game Point Cafe\, 107 S 11th Street\, Nashville\, TN\, 37206\, United States
CATEGORIES:Game Gathering,Keyforge
ATTACH;FMTTYPE=image/jpeg:https://gamepointcafe.com/wp-content/uploads/2018/10/Keyforge.jpg
END:VEVENT
BEGIN:VEVENT
DTSTART;TZID=America/Chicago:20220711T180000
DTEND;TZID=America/Chicago:20220711T220000
DTSTAMP:20260420T230808
CREATED:20220605T141412Z
LAST-MODIFIED:20220605T141412Z
UID:10000511-1657562400-1657576800@gamepointcafe.com
SUMMARY:Magic: The Gathering - Draft and a Drink
DESCRIPTION:Our Magic drafting event is back.  Formerly known as Draft and a Draught – seem idea but with wider selection.  We start off with a Magic the Gathering booster draft\, then add on to that a beer or latte of your choice.  Top that off with three rounds of Swiss with the deck you drafted\, each match win getting you a bonus pack.  It all adds up to a fun\, fun night.  $18 (plus tax) gets you the cards for the draft\, any prize packs you win\, and your first drink. \nSet for this draft will be Streets of New Capenna. \nThis isn’t Wizard Play sanctioned and usually is pretty laid back – a great way to play some Magic\, especially if you haven’t played in a while.  We start registering people at 6:00 and aim to get started by 6:30 pm. Six people minimum for the draft.  Hope you’ll come join us!
URL:https://gamepointcafe.com/event/magic-the-gathering-draft-and-a-drink-5/
LOCATION:Game Point Cafe\, 107 S 11th Street\, Nashville\, TN\, 37206\, United States
CATEGORIES:Game Gathering,Magic the Gathering
ATTACH;FMTTYPE=image/png:https://gamepointcafe.com/wp-content/uploads/2020/01/magicdraft.png
END:VEVENT
BEGIN:VEVENT
DTSTART;TZID=America/Chicago:20220712T183000
DTEND;TZID=America/Chicago:20220712T220000
DTSTAMP:20260420T230808
CREATED:20220605T143635Z
LAST-MODIFIED:20220711T203830Z
UID:10000517-1657650600-1657663200@gamepointcafe.com
SUMMARY:Trick Taking Card Game Night
DESCRIPTION:Spades. Euchre. Hearts. \nSecond Tuesday of the month is Trick Taking Card Game Night at Game Point! Come out to Game Point and get into some card games.  New to trick taking games?  No worries\, we’ll teach you the rules too!  And as we wait for people to arrive\, we’ll get in some hands of the new cooperative trick taking game – The Crew.  Or if people are interested\, we can also teach a ladder-based trick taking game\, Tichu\, that is super fun!
URL:https://gamepointcafe.com/event/trick-taking-card-game-night-6/
LOCATION:TN
CATEGORIES:Game Gathering,Teaching Night
ATTACH;FMTTYPE=image/png:https://gamepointcafe.com/wp-content/uploads/2022/06/tricktaking.png
END:VEVENT
BEGIN:VEVENT
DTSTART;TZID=America/Chicago:20220713T183000
DTEND;TZID=America/Chicago:20220713T220000
DTSTAMP:20260420T230808
CREATED:20220608T130543Z
LAST-MODIFIED:20220711T174222Z
UID:10000518-1657737000-1657749600@gamepointcafe.com
SUMMARY:Dominion Night
DESCRIPTION:In Dominion\, you are a local ruler trying to build your kingdom to win the game.  It is a game where you have a deck of cards that let you get points or buy new cards that might let you get more points.  Throughout the game\, your deck gets more personalized with the cards you buy and\, hopefully\, more able to acquire cards worth lots of points.  This type of game is known as a “deck builder” and Dominion was the first game to gain popularity of this type. \nEach second Wednesday come out and play some Dominion\, we’ll be teaching the game to new players and we’ll have tables and sets for vets as well.  If we build up a following and people are interested\, we’ll start a Dominion league later this fall.  Games start around 6:30 pm but will continue throughout the evening\, as they only take around 30 minutes to play.
URL:https://gamepointcafe.com/event/dominion-night/
LOCATION:Game Point Cafe\, 107 S 11th Street\, Nashville\, TN\, 37206\, United States
CATEGORIES:Game Gathering,Teaching Night
ATTACH;FMTTYPE=image/png:https://gamepointcafe.com/wp-content/uploads/2022/06/dominionnight.png
END:VEVENT
BEGIN:VEVENT
DTSTART;TZID=America/Chicago:20220714T183000
DTEND;TZID=America/Chicago:20220714T220000
DTSTAMP:20260420T230808
CREATED:20220605T143245Z
LAST-MODIFIED:20220605T143245Z
UID:10000516-1657823400-1657836000@gamepointcafe.com
SUMMARY:Keyforge: Archon Tournament
DESCRIPTION:Tonight’s event will be a best of one\, Archon format.  You will need to bring our own Keyforge deck to the event.  Arrive by 6:30 pm to register your deck and sign in. First round will start shortly thereafter.  We ask that everyone playing plan to spend a minimum of $10 in food or drink.  The tournament winner will get a prize of Keyforge promotional materials or a Game Point gift card! \nWe’ll continue to test the Chainbound 2022 events and make this an official event.  What does that mean?  It means that we will register each deck before play begins.  The results of the tournament are reported back to the Fantasy Flight servers and decks are handicapped based on how well they have done.  In essence\, this helps to create a fluid meta around the game.  In addition\, playing and winning also earns you ambershards that can be redeemed for promotional stuff from Fantasy Flight Games.  So you’ll want to have downloaded the Keyforge app and have set up your personal account on the app before the tournament begins.  You can read more about the format on Fantasy Flight Keyforge Website.
URL:https://gamepointcafe.com/event/keyforge-archon-tournament/
LOCATION:TN
CATEGORIES:Game Gathering,Keyforge
END:VEVENT
BEGIN:VEVENT
DTSTART;TZID=America/Chicago:20220718T183000
DTEND;TZID=America/Chicago:20220718T220000
DTSTAMP:20260420T230808
CREATED:20220605T135928Z
LAST-MODIFIED:20220605T141153Z
UID:10000509-1658169000-1658181600@gamepointcafe.com
SUMMARY:Magic Monday: Standard Play
DESCRIPTION:We have had to shuffle things around for staffing reasons\, so Standard Play will be the third Monday of the month.  In July\, we will host an open play evening with the goal of gearing up to a regular event if there is interest.
URL:https://gamepointcafe.com/event/magic-monday-standard-play-2/
LOCATION:Game Point Cafe\, 107 S 11th Street\, Nashville\, TN\, 37206\, United States
CATEGORIES:Game Gathering,Magic the Gathering
END:VEVENT
BEGIN:VEVENT
DTSTART;TZID=America/Chicago:20220721T183000
DTEND;TZID=America/Chicago:20220721T220000
DTSTAMP:20260420T230808
CREATED:20220605T143014Z
LAST-MODIFIED:20220605T143014Z
UID:10000515-1658428200-1658440800@gamepointcafe.com
SUMMARY:Keyforge: Open Play
DESCRIPTION:Keyforge tonight is open play.  Come on out with some decks and play some pick up games will enjoying a hot latte or a cold brew. \nNew to Keyforge?  Come on out.  Everyone is super friendly and wanting to grow the community!  The coach on duty\, or likely one of the players\, will be happy to walk you through how Keyforge is played and play some intro games!
URL:https://gamepointcafe.com/event/keyforge-open-play/
LOCATION:Game Point Cafe\, 107 S 11th Street\, Nashville\, TN\, 37206\, United States
CATEGORIES:Game Gathering,Keyforge
ATTACH;FMTTYPE=image/jpeg:https://gamepointcafe.com/wp-content/uploads/2018/10/Keyforge.jpg
END:VEVENT
BEGIN:VEVENT
DTSTART;TZID=America/Chicago:20220725T183000
DTEND;TZID=America/Chicago:20220725T220000
DTSTAMP:20260420T230808
CREATED:20220605T142412Z
LAST-MODIFIED:20220605T142412Z
UID:10000512-1658773800-1658786400@gamepointcafe.com
SUMMARY:Magic Monday: Casual Commander Night
DESCRIPTION:Calling all Magic: the Gathering players\, this night is for you!  Bring your commander decks into Game Point tonight and play some casual commander games. \nThere’s never a fee for this event\, but we kindly suggest you plan to spend $10 on food and drink while tapping mana and casting spells!
URL:https://gamepointcafe.com/event/magic-monday-casual-commander-night-8/
LOCATION:Game Point Cafe\, 107 S 11th Street\, Nashville\, TN\, 37206\, United States
CATEGORIES:Game Gathering,Magic the Gathering
END:VEVENT
BEGIN:VEVENT
DTSTART;TZID=America/Chicago:20220726T183000
DTEND;TZID=America/Chicago:20220726T220000
DTSTAMP:20260420T230808
CREATED:20220605T140333Z
LAST-MODIFIED:20220605T140627Z
UID:10000510-1658860200-1658872800@gamepointcafe.com
SUMMARY:Game Point Game Night - Meet New People
DESCRIPTION:Looking for new people to play with?  Can’t convince your friends to come play board games?  This is the night for you!  On the last Tuesday of the month\, we host a more curated game night – the idea being that people can come in by themselves or with a friend and get into games with larger groups.  Calling it singles night makes it sound too much like the goal is to find a date but\, hey\, if you find your gaming soulmate\, all the better. \nOur Game Coach will be welcoming new players and helping get people into games – meet some new people\, learn some new games and have fun!
URL:https://gamepointcafe.com/event/game-point-game-night-meet-new-people-3/
LOCATION:Game Point Cafe\, 107 S 11th Street\, Nashville\, TN\, 37206\, United States
CATEGORIES:Game Gathering
ATTACH;FMTTYPE=image/png:https://gamepointcafe.com/wp-content/uploads/2022/05/gamenight.png
END:VEVENT
BEGIN:VEVENT
DTSTART;TZID=America/Chicago:20220727T183000
DTEND;TZID=America/Chicago:20220727T220000
DTSTAMP:20260420T230808
CREATED:20220605T142617Z
LAST-MODIFIED:20220629T192838Z
UID:10000513-1658946600-1658959200@gamepointcafe.com
SUMMARY:Agricola Night
DESCRIPTION:In 2007\, Uwe Rosenberg’s Agricola hit the market and suddenly running a subsistence farm was the new hot thing to do.  In it\, players are a family starting out in a new farm – plant vegetables\, raise livestock\, have children\, and then raise them to help work the fields — and above all make sure that everyone can be fed throughout the game.  For the past two decades\, Agricola has been a popular game – consistently ranking in the top 50 games of all time. \nThe last Wednesday of the month\, come on out and learn Agricola or just get in a game.  It’s a great chance to try a heavier game that you might not normally get to the table.
URL:https://gamepointcafe.com/event/agricola-night-3/
LOCATION:Game Point Cafe\, 107 S 11th Street\, Nashville\, TN\, 37206\, United States
CATEGORIES:Game Gathering
ATTACH;FMTTYPE=image/png:https://gamepointcafe.com/wp-content/uploads/2022/05/agricola.png
END:VEVENT
BEGIN:VEVENT
DTSTART;TZID=America/Chicago:20220728T183000
DTEND;TZID=America/Chicago:20220728T220000
DTSTAMP:20260420T230808
CREATED:20220605T142808Z
LAST-MODIFIED:20220605T142834Z
UID:10000514-1659033000-1659045600@gamepointcafe.com
SUMMARY:Keyforge: Sealed Tournament
DESCRIPTION:Thursday nights are Keyforge nights at Game Point – join a fun group of players in this unique card game. \nWe’re are bring back the successful and super fund Sealed Grab Bag event.  At the start of the event\,  you’ll pay $10 for a Keyforge deck and then you’ll reach into a bag and grab a sealed deck.  That’s your deck for the evening’s tournament.  The twist is that the grab bag is full of decks from lots of different Keyforge sets!  And then we’ll battle in a Swiss tournament  We’ll start matches at 6:30!
URL:https://gamepointcafe.com/event/11308/
LOCATION:TN
CATEGORIES:Game Gathering,Keyforge
ATTACH;FMTTYPE=image/jpeg:https://gamepointcafe.com/wp-content/uploads/2018/10/Keyforge.jpg
END:VEVENT
END:VCALENDAR