BEGIN:VCALENDAR
VERSION:2.0
PRODID:-//Game Point - ECPv6.15.20//NONSGML v1.0//EN
CALSCALE:GREGORIAN
METHOD:PUBLISH
X-ORIGINAL-URL:https://gamepointcafe.com
X-WR-CALDESC:Events for Game Point
REFRESH-INTERVAL;VALUE=DURATION:PT1H
X-Robots-Tag:noindex
X-PUBLISHED-TTL:PT1H
BEGIN:VTIMEZONE
TZID:America/Chicago
BEGIN:DAYLIGHT
TZOFFSETFROM:-0600
TZOFFSETTO:-0500
TZNAME:CDT
DTSTART:20220313T080000
END:DAYLIGHT
BEGIN:STANDARD
TZOFFSETFROM:-0500
TZOFFSETTO:-0600
TZNAME:CST
DTSTART:20221106T070000
END:STANDARD
BEGIN:DAYLIGHT
TZOFFSETFROM:-0600
TZOFFSETTO:-0500
TZNAME:CDT
DTSTART:20230312T080000
END:DAYLIGHT
BEGIN:STANDARD
TZOFFSETFROM:-0500
TZOFFSETTO:-0600
TZNAME:CST
DTSTART:20231105T070000
END:STANDARD
BEGIN:DAYLIGHT
TZOFFSETFROM:-0600
TZOFFSETTO:-0500
TZNAME:CDT
DTSTART:20240310T080000
END:DAYLIGHT
BEGIN:STANDARD
TZOFFSETFROM:-0500
TZOFFSETTO:-0600
TZNAME:CST
DTSTART:20241103T070000
END:STANDARD
END:VTIMEZONE
BEGIN:VEVENT
DTSTART;TZID=America/Chicago:20230206T183000
DTEND;TZID=America/Chicago:20230206T223000
DTSTAMP:20260420T214223
CREATED:20230206T155143Z
LAST-MODIFIED:20230206T155143Z
UID:10000614-1675708200-1675722600@gamepointcafe.com
SUMMARY:Magic Monday: Draft and a Drink
DESCRIPTION:Our Magic drafting event is back.  Formerly known as Draft and a Draught – seem idea but with wider selection.  We start off with a Magic the Gathering booster draft\, then add on to that a beer or latte of your choice.  Top that off with three rounds of Swiss with the deck you drafted\, each match win getting you a bonus pack.  It all adds up to a fun\, fun night.  $20 (plus tax) gets you the cards for the draft\, any prize packs you win\, and your first drink. \nTonight’s format will be a Chaos Draft – different sets mash up to create the chaos. \nThis isn’t Wizard Play sanctioned and usually is pretty laid back – a great way to play some Magic\, especially if you haven’t played in a while.  Six people minimum for the draft.  We start gathering at 6 pm and registering people as soon as we have six folks.  Then we aim to get started as close to 6:30 pm as we can. Hope you’ll come join us!
URL:https://gamepointcafe.com/event/magic-monday-draft-and-a-drink-7/
LOCATION:Game Point Cafe\, 107 S 11th Street\, Nashville\, TN\, 37206\, United States
CATEGORIES:Game Gathering,Magic the Gathering
ATTACH;FMTTYPE=image/png:https://gamepointcafe.com/wp-content/uploads/2020/01/magicdraft.png
END:VEVENT
BEGIN:VEVENT
DTSTART;TZID=America/Chicago:20230207T183000
DTEND;TZID=America/Chicago:20230207T213000
DTSTAMP:20260420T214223
CREATED:20230206T155301Z
LAST-MODIFIED:20230206T155301Z
UID:10000615-1675794600-1675805400@gamepointcafe.com
SUMMARY:Chess Night
DESCRIPTION:All skill levels are welcome at our monthly Chess Night at Game Point (first Tuesday of the month).  We’ll have a number of boards available for people to come in for a game.  In the before COVID times\, we had a number of people come in that had only played on the internet – and they commented how fun it was to play face to face.  You should be one of those faces! \nFor very new players\, one of our regulars won the 2020 Tennessee Open Amateur Division and would love to give some free lessons and pointers\, so come take advantage! \nChess Night happens monthly. Games happen throughout the night\, usually timed games (through chess timer phone apps).  We have a lot of sets\, so just show up\, order a drink\, and play!
URL:https://gamepointcafe.com/event/chess-night-40/
LOCATION:Game Point Cafe\, 107 S 11th Street\, Nashville\, TN\, 37206\, United States
CATEGORIES:Chess Night,Game Gathering
ATTACH;FMTTYPE=image/png:https://gamepointcafe.com/wp-content/uploads/2018/04/chessnight.png
END:VEVENT
BEGIN:VEVENT
DTSTART;TZID=America/Chicago:20230213T183000
DTEND;TZID=America/Chicago:20230213T220000
DTSTAMP:20260420T214223
CREATED:20230209T145700Z
LAST-MODIFIED:20230209T145700Z
UID:10000617-1676313000-1676325600@gamepointcafe.com
SUMMARY:Magic Monday: Casual Commander Night
DESCRIPTION:Calling all Magic: the Gathering players\, this night is for you!  Bring your commander decks into Game Point tonight and play some casual commander games. \nThere’s never a fee for this event\, but we kindly suggest you plan to spend $10 on food and drink while tapping mana and casting spells!
URL:https://gamepointcafe.com/event/magic-monday-casual-commander-night-20/
LOCATION:Game Point Cafe\, 107 S 11th Street\, Nashville\, TN\, 37206\, United States
CATEGORIES:Game Gathering,Magic the Gathering
ATTACH;FMTTYPE=image/png:https://gamepointcafe.com/wp-content/uploads/2022/08/commander.png
END:VEVENT
BEGIN:VEVENT
DTSTART;TZID=America/Chicago:20230220T180000
DTEND;TZID=America/Chicago:20230220T220000
DTSTAMP:20260420T214223
CREATED:20230214T183104Z
LAST-MODIFIED:20230214T183104Z
UID:10000630-1676916000-1676930400@gamepointcafe.com
SUMMARY:Magic Monday: Draft and a Drink
DESCRIPTION:Our Magic drafting event is back.  Formerly known as Draft and a Draught – seem idea but with wider selection.  We start off with a Magic the Gathering booster draft\, then add on to that a beer or latte of your choice.  Top that off with three rounds of Swiss with the deck you drafted\, each match win getting you a bonus pack.  It all adds up to a fun\, fun night.  $20 (plus tax) gets you the cards for the draft\, any prize packs you win\, and your first drink. \nTonight’s format will be Phyrexia: All Will Be One \nThis isn’t Wizard Play sanctioned and usually is pretty laid back – a great way to play some Magic\, especially if you haven’t played in a while.  Six people minimum for the draft.  We start gathering at 6 pm and registering people as soon as we have six folks.  Then we aim to get started as close to 6:30 pm as we can. Hope you’ll come join us!
URL:https://gamepointcafe.com/event/magic-monday-draft-and-a-drink-8/
LOCATION:Game Point Cafe\, 107 S 11th Street\, Nashville\, TN\, 37206\, United States
CATEGORIES:Game Gathering,Magic the Gathering
ATTACH;FMTTYPE=image/png:https://gamepointcafe.com/wp-content/uploads/2020/01/magicdraft.png
END:VEVENT
BEGIN:VEVENT
DTSTART;TZID=America/Chicago:20230221T183000
DTEND;TZID=America/Chicago:20230221T213000
DTSTAMP:20260420T214223
CREATED:20230214T184311Z
LAST-MODIFIED:20230214T184311Z
UID:10000635-1677004200-1677015000@gamepointcafe.com
SUMMARY:Word Game Night
DESCRIPTION:Whether you love Boggle\, Scrabble\, or even Bananagrams\, this night is for you!  Come on out to Game Point and join your other logophiles for some word games.  We’ll start gathering around 6:30 but get here when you can\, brag a tasty drink\, and jump in on some word making fun!
URL:https://gamepointcafe.com/event/word-game-night-6/
LOCATION:Game Point Cafe\, 107 S 11th Street\, Nashville\, TN\, 37206\, United States
CATEGORIES:Game Gathering
END:VEVENT
BEGIN:VEVENT
DTSTART;TZID=America/Chicago:20230222T190000
DTEND;TZID=America/Chicago:20230222T220000
DTSTAMP:20260420T214223
CREATED:20230222T162159Z
LAST-MODIFIED:20230222T162159Z
UID:10000646-1677092400-1677103200@gamepointcafe.com
SUMMARY:Agricola Night
DESCRIPTION:In 2007\, Uwe Rosenberg’s Agricola hit the market and suddenly running a subsistence farm was the new hot thing to do.  In it\, players are a family starting out in a new farm – plant vegetables\, raise livestock\, have children\, and then raise them to help work the fields — and above all make sure that everyone can be fed throughout the game.  For the past two decades\, Agricola has been a popular game – consistently ranking in the top 50 games of all time. \nThe last Wednesday of the month\, come on out and learn Agricola or just get in a game.  It’s a great chance to try a heavier game that you might not normally get to the table.
URL:https://gamepointcafe.com/event/agricola-night-9/
LOCATION:Game Point Cafe\, 107 S 11th Street\, Nashville\, TN\, 37206\, United States
CATEGORIES:Game Gathering
ATTACH;FMTTYPE=image/png:https://gamepointcafe.com/wp-content/uploads/2022/05/agricola.png
END:VEVENT
BEGIN:VEVENT
DTSTART;TZID=America/Chicago:20230223T183000
DTEND;TZID=America/Chicago:20230223T220000
DTSTAMP:20260420T214223
CREATED:20230214T175515Z
LAST-MODIFIED:20230214T175746Z
UID:10000461-1677177000-1677189600@gamepointcafe.com
SUMMARY:SolForge Fusion Event
DESCRIPTION:Ready for some SolForge Fusion?  Come on in to register between 6 pm and 6:30 pm.  Event will kick off at 6:30 pm and be a Swiss style game with best of 1 matches.  No fee for playing but please plan on purchasing food or drinks to help make this possible.  Prize for best record and a random drawing from everyone that played. Even if you are new to the game\, you are encouraged to play.  We have all skill levels and this is a great way to get in several games and get more experience – and our crowd is friendly and welcoming! \nOn Thursdays\, we Forge!
URL:https://gamepointcafe.com/event/solforge-fusion-event/
LOCATION:Game Point Cafe\, 107 S 11th Street\, Nashville\, TN\, 37206\, United States
CATEGORIES:Game Gathering,SolForge Fusion
ATTACH;FMTTYPE=image/png:https://gamepointcafe.com/wp-content/uploads/2022/07/solforge.png
END:VEVENT
BEGIN:VEVENT
DTSTART;TZID=America/Chicago:20230227T183000
DTEND;TZID=America/Chicago:20230227T220000
DTSTAMP:20260420T214223
CREATED:20230209T145743Z
LAST-MODIFIED:20230209T145743Z
UID:10000619-1677522600-1677535200@gamepointcafe.com
SUMMARY:Magic Monday: Casual Commander Night
DESCRIPTION:Calling all Magic: the Gathering players\, this night is for you!  Bring your commander decks into Game Point tonight and play some casual commander games. \nThere’s never a fee for this event\, but we kindly suggest you plan to spend $10 on food and drink while tapping mana and casting spells!
URL:https://gamepointcafe.com/event/magic-monday-casual-commander-night-21/
LOCATION:Game Point Cafe\, 107 S 11th Street\, Nashville\, TN\, 37206\, United States
CATEGORIES:Game Gathering,Magic the Gathering
ATTACH;FMTTYPE=image/png:https://gamepointcafe.com/wp-content/uploads/2022/08/commander.png
END:VEVENT
BEGIN:VEVENT
DTSTART;TZID=America/Chicago:20230228T183000
DTEND;TZID=America/Chicago:20230228T220000
DTSTAMP:20260420T214223
CREATED:20230214T194303Z
LAST-MODIFIED:20230220T034731Z
UID:10000643-1677609000-1677621600@gamepointcafe.com
SUMMARY:Tiny TGD - Meet new players!
DESCRIPTION:Tennessee Game Days (TGD) is a regional board game convention held twice a year in Middle Tennessee.  It is a great place to bring friends and meet new ones. Likewise\, it’s a superb venue for learning a new game or teaching one that you love. \nTiny TGD will replicate the learning/teaching/meeting/friendly vibes of the event\, just at a very small scale. So come out to Game Point the last Tuesday of every month from 6:30 pm to close. While you can find open gaming every night at Game Point\, Tiny TGD will offer a critical mass of players for solo\ngamers to meetup and will typically include veteran game teachers like TGD organizers Russ Rupe and Rick Keuler\, co-owner of Game Point.
URL:https://gamepointcafe.com/event/tgd-micro-meet-new-players/
LOCATION:Game Point Cafe\, 107 S 11th Street\, Nashville\, TN\, 37206\, United States
CATEGORIES:Game Gathering
ATTACH;FMTTYPE=image/jpeg:https://gamepointcafe.com/wp-content/uploads/2023/02/Plain-Logo.jpg
END:VEVENT
END:VCALENDAR