BEGIN:VCALENDAR
VERSION:2.0
PRODID:-//Game Point - ECPv6.15.20//NONSGML v1.0//EN
CALSCALE:GREGORIAN
METHOD:PUBLISH
X-WR-CALNAME:Game Point
X-ORIGINAL-URL:https://gamepointcafe.com
X-WR-CALDESC:Events for Game Point
REFRESH-INTERVAL;VALUE=DURATION:PT1H
X-Robots-Tag:noindex
X-PUBLISHED-TTL:PT1H
BEGIN:VTIMEZONE
TZID:America/Chicago
BEGIN:DAYLIGHT
TZOFFSETFROM:-0600
TZOFFSETTO:-0500
TZNAME:CDT
DTSTART:20220313T080000
END:DAYLIGHT
BEGIN:STANDARD
TZOFFSETFROM:-0500
TZOFFSETTO:-0600
TZNAME:CST
DTSTART:20221106T070000
END:STANDARD
BEGIN:DAYLIGHT
TZOFFSETFROM:-0600
TZOFFSETTO:-0500
TZNAME:CDT
DTSTART:20230312T080000
END:DAYLIGHT
BEGIN:STANDARD
TZOFFSETFROM:-0500
TZOFFSETTO:-0600
TZNAME:CST
DTSTART:20231105T070000
END:STANDARD
BEGIN:DAYLIGHT
TZOFFSETFROM:-0600
TZOFFSETTO:-0500
TZNAME:CDT
DTSTART:20240310T080000
END:DAYLIGHT
BEGIN:STANDARD
TZOFFSETFROM:-0500
TZOFFSETTO:-0600
TZNAME:CST
DTSTART:20241103T070000
END:STANDARD
END:VTIMEZONE
BEGIN:VEVENT
DTSTART;TZID=America/Chicago:20230403T180000
DTEND;TZID=America/Chicago:20230403T220000
DTSTAMP:20260422T171914
CREATED:20230214T183347Z
LAST-MODIFIED:20230214T183347Z
UID:10000633-1680544800-1680559200@gamepointcafe.com
SUMMARY:Magic Monday: Draft and a Drink
DESCRIPTION:Our Magic drafting event is back.  Formerly known as Draft and a Draught – seem idea but with wider selection.  We start off with a Magic the Gathering booster draft\, then add on to that a beer or latte of your choice.  Top that off with three rounds of Swiss with the deck you drafted\, each match win getting you a bonus pack.  It all adds up to a fun\, fun night.  $20 (plus tax) gets you the cards for the draft\, any prize packs you win\, and your first drink. \nTonight’s format will be Phyrexia: All Will Be One \nThis isn’t Wizard Play sanctioned and usually is pretty laid back – a great way to play some Magic\, especially if you haven’t played in a while.  Six people minimum for the draft.  We start gathering at 6 pm and registering people as soon as we have six folks.  Then we aim to get started as close to 6:30 pm as we can. Hope you’ll come join us!
URL:https://gamepointcafe.com/event/magic-monday-draft-and-a-drink-11/
LOCATION:Game Point Cafe\, 107 S 11th Street\, Nashville\, TN\, 37206\, United States
CATEGORIES:Game Gathering,Magic the Gathering
ATTACH;FMTTYPE=image/png:https://gamepointcafe.com/wp-content/uploads/2020/01/magicdraft.png
END:VEVENT
BEGIN:VEVENT
DTSTART;TZID=America/Chicago:20230406T183000
DTEND;TZID=America/Chicago:20230406T220000
DTSTAMP:20260422T171914
CREATED:20230214T181118Z
LAST-MODIFIED:20230214T181118Z
UID:10000469-1680805800-1680818400@gamepointcafe.com
SUMMARY:Keyforge / SolForge Fusion - New Player Night
DESCRIPTION:There are two unique deck games on the market right now – Keyforge and SolForge Fusion. What does a unique deck mean?  The core of each game is that there is a deck that is generated by a computer algorithm that creates a deck for you to play that is unique from any other deck that’s out there.  Then you play a card game with those decks.  It gives the feeling of a collectible card game like Magic: the Gathering or Pokemon without chasing rare cards or needing to spend a lot of money on your deck. \nTonight we are hosting a new player night for both games.  Experienced players are welcome and encouraged to come teach new players and the coach on duty will have demo decks for both games so you can try them out. As always\, there is no charge for this event but do plan to buy some food or drink when you come out to help make our events possible. \nOn Thursdays\, we forge!
URL:https://gamepointcafe.com/event/keyforge-solforge-fusion-new-player-night-2/
LOCATION:Game Point Cafe\, 107 S 11th Street\, Nashville\, TN\, 37206\, United States
CATEGORIES:Game Gathering,Keyforge,SolForge Fusion
ATTACH;FMTTYPE=image/png:https://gamepointcafe.com/wp-content/uploads/2022/08/ForgeNight.png
END:VEVENT
BEGIN:VEVENT
DTSTART;TZID=America/Chicago:20230410T183000
DTEND;TZID=America/Chicago:20230410T220000
DTSTAMP:20260422T171914
CREATED:20230209T150037Z
LAST-MODIFIED:20230209T150037Z
UID:10000622-1681151400-1681164000@gamepointcafe.com
SUMMARY:Magic Monday: Casual Commander Night
DESCRIPTION:Calling all Magic: the Gathering players\, this night is for you!  Bring your commander decks into Game Point tonight and play some casual commander games. \nThere’s never a fee for this event\, but we kindly suggest you plan to spend $10 on food and drink while tapping mana and casting spells!
URL:https://gamepointcafe.com/event/magic-monday-casual-commander-night-24/
LOCATION:Game Point Cafe\, 107 S 11th Street\, Nashville\, TN\, 37206\, United States
CATEGORIES:Game Gathering,Magic the Gathering
ATTACH;FMTTYPE=image/png:https://gamepointcafe.com/wp-content/uploads/2022/08/commander.png
END:VEVENT
BEGIN:VEVENT
DTSTART;TZID=America/Chicago:20230413T183000
DTEND;TZID=America/Chicago:20230413T220000
DTSTAMP:20260422T171914
CREATED:20230214T175019Z
LAST-MODIFIED:20230214T175019Z
UID:10000457-1681410600-1681423200@gamepointcafe.com
SUMMARY:Keyforge - Grab Bag Sealed Event
DESCRIPTION:We’re are bring back the successful and super fun Sealed Grab Bag event.  At the start of the event\,  you’ll pay $10 for a Keyforge deck and then you’ll reach into a bag and grab a sealed deck.  That’s your deck for the evening’s tournament.  The twist is that the grab bag is full of decks from lots of different Keyforge sets!  We’ll play some Swiss pairing games – each win gets you an entry in the night’s door prize drawing. \nOn Thursdays\, we forge!
URL:https://gamepointcafe.com/event/keyforge-grab-bag-sealed-event-6/
LOCATION:Game Point Cafe\, 107 S 11th Street\, Nashville\, TN\, 37206\, United States
CATEGORIES:Game Gathering,Keyforge
ATTACH;FMTTYPE=image/jpeg:https://gamepointcafe.com/wp-content/uploads/2018/10/Keyforge.jpg
END:VEVENT
BEGIN:VEVENT
DTSTART;TZID=America/Chicago:20230417T180000
DTEND;TZID=America/Chicago:20230417T220000
DTSTAMP:20260422T171914
CREATED:20230214T183427Z
LAST-MODIFIED:20230214T183427Z
UID:10000634-1681754400-1681768800@gamepointcafe.com
SUMMARY:Magic Monday: Draft and a Drink
DESCRIPTION:Our Magic drafting event is back.  Formerly known as Draft and a Draught – seem idea but with wider selection.  We start off with a Magic the Gathering booster draft\, then add on to that a beer or latte of your choice.  Top that off with three rounds of Swiss with the deck you drafted\, each match win getting you a bonus pack.  It all adds up to a fun\, fun night.  $20 (plus tax) gets you the cards for the draft\, any prize packs you win\, and your first drink. \nTonight’s format will be announced at a later date. \nThis isn’t Wizard Play sanctioned and usually is pretty laid back – a great way to play some Magic\, especially if you haven’t played in a while.  Six people minimum for the draft.  We start gathering at 6 pm and registering people as soon as we have six folks.  Then we aim to get started as close to 6:30 pm as we can. Hope you’ll come join us!
URL:https://gamepointcafe.com/event/magic-monday-draft-and-a-drink-12/
LOCATION:Game Point Cafe\, 107 S 11th Street\, Nashville\, TN\, 37206\, United States
CATEGORIES:Game Gathering,Magic the Gathering
END:VEVENT
BEGIN:VEVENT
DTSTART;TZID=America/Chicago:20230418T183000
DTEND;TZID=America/Chicago:20230418T220000
DTSTAMP:20260422T171914
CREATED:20230214T184420Z
LAST-MODIFIED:20230214T184420Z
UID:10000639-1681842600-1681855200@gamepointcafe.com
SUMMARY:Word Game Night
DESCRIPTION:Whether you love Boggle\, Scrabble\, or even Bananagrams\, this night is for you!  Come on out to Game Point and join your other logophiles for some word games.  We’ll start gathering around 6:30 but get here when you can\, brag a tasty drink\, and jump in on some word making fun!
URL:https://gamepointcafe.com/event/word-game-night-8/
LOCATION:Game Point Cafe\, 107 S 11th Street\, Nashville\, TN\, 37206\, United States
CATEGORIES:Game Gathering
ATTACH;FMTTYPE=image/png:https://gamepointcafe.com/wp-content/uploads/2022/07/word-game.png
END:VEVENT
BEGIN:VEVENT
DTSTART;TZID=America/Chicago:20230420T183000
DTEND;TZID=America/Chicago:20230420T220000
DTSTAMP:20260422T171914
CREATED:20230214T175653Z
LAST-MODIFIED:20230214T175740Z
UID:10000463-1682015400-1682028000@gamepointcafe.com
SUMMARY:SolForge Fusion Event
DESCRIPTION:Ready for some SolForge Fusion?  Come on in to register between 6 pm and 6:30 pm.  Event will kick off at 6:30 pm and be a Swiss style game with best of 1 matches.  No fee for playing but please plan on purchasing food or drinks to help make this possible.  Prize for best record and a random drawing from everyone that played.  Even if you are new to the game\, you are encouraged to play.  We have all skill levels and this is a great way to get in several games and get more experience – and our crowd is friendly and welcoming! \nOn Thursdays\, we Forge!
URL:https://gamepointcafe.com/event/solforge-fusion-event-2/
LOCATION:Game Point Cafe\, 107 S 11th Street\, Nashville\, TN\, 37206\, United States
CATEGORIES:Game Gathering,SolForge Fusion
ATTACH;FMTTYPE=image/png:https://gamepointcafe.com/wp-content/uploads/2022/07/solforge.png
END:VEVENT
BEGIN:VEVENT
DTSTART;TZID=America/Chicago:20230424T183000
DTEND;TZID=America/Chicago:20230424T220000
DTSTAMP:20260422T171914
CREATED:20230209T150119Z
LAST-MODIFIED:20230209T150119Z
UID:10000621-1682361000-1682373600@gamepointcafe.com
SUMMARY:Magic Monday: Casual Commander Night
DESCRIPTION:Calling all Magic: the Gathering players\, this night is for you!  Bring your commander decks into Game Point tonight and play some casual commander games. \nThere’s never a fee for this event\, but we kindly suggest you plan to spend $10 on food and drink while tapping mana and casting spells!
URL:https://gamepointcafe.com/event/magic-monday-casual-commander-night-25/
LOCATION:Game Point Cafe\, 107 S 11th Street\, Nashville\, TN\, 37206\, United States
CATEGORIES:Game Gathering,Magic the Gathering
ATTACH;FMTTYPE=image/png:https://gamepointcafe.com/wp-content/uploads/2022/08/commander.png
END:VEVENT
BEGIN:VEVENT
DTSTART;TZID=America/Chicago:20230425T183000
DTEND;TZID=America/Chicago:20230425T220000
DTSTAMP:20260422T171914
CREATED:20230214T194437Z
LAST-MODIFIED:20230328T171648Z
UID:10000644-1682447400-1682460000@gamepointcafe.com
SUMMARY:Tiny TGD - Meet new players!
DESCRIPTION:Tennessee Game Days (TGD) is a regional board game convention held twice a year in Middle Tennessee.  It is a great place to bring friends and meet new ones. Likewise\, it’s a superb venue for learning a new game or teaching one that you love. \nTiny TGD will replicate the learning/teaching/meeting/friendly vibes of the event\, just at a very small scale. So come out to Game Point the last Tuesday of every month from 6:30 pm to close. While you can find open gaming every night at Game Point\, Tiny TGD will offer a critical mass of players for solo gamers or couples to meetup and will typically include veteran game teachers like TGD organizers Russ Rupe and Rick Keuler\, co-owner of Game Point.
URL:https://gamepointcafe.com/event/tgd-micro-meet-new-players-2/
LOCATION:Game Point Cafe\, 107 S 11th Street\, Nashville\, TN\, 37206\, United States
CATEGORIES:Game Gathering
ATTACH;FMTTYPE=image/jpeg:https://gamepointcafe.com/wp-content/uploads/2023/02/Plain-Logo.jpg
END:VEVENT
BEGIN:VEVENT
DTSTART;TZID=America/Chicago:20230426T183000
DTEND;TZID=America/Chicago:20230426T220000
DTSTAMP:20260422T171914
CREATED:20230222T162301Z
LAST-MODIFIED:20230222T162301Z
UID:10000648-1682533800-1682546400@gamepointcafe.com
SUMMARY:Agricola Night
DESCRIPTION:In 2007\, Uwe Rosenberg’s Agricola hit the market and suddenly running a subsistence farm was the new hot thing to do.  In it\, players are a family starting out in a new farm – plant vegetables\, raise livestock\, have children\, and then raise them to help work the fields — and above all make sure that everyone can be fed throughout the game.  For the past two decades\, Agricola has been a popular game – consistently ranking in the top 50 games of all time. \nThe last Wednesday of the month\, come on out and learn Agricola or just get in a game.  It’s a great chance to try a heavier game that you might not normally get to the table.
URL:https://gamepointcafe.com/event/agricola-night-11/
LOCATION:Game Point Cafe\, 107 S 11th Street\, Nashville\, TN\, 37206\, United States
CATEGORIES:Game Gathering
ATTACH;FMTTYPE=image/png:https://gamepointcafe.com/wp-content/uploads/2022/05/agricola.png
END:VEVENT
END:VCALENDAR