BEGIN:VCALENDAR
VERSION:2.0
PRODID:-//Game Point - ECPv6.15.20//NONSGML v1.0//EN
CALSCALE:GREGORIAN
METHOD:PUBLISH
X-ORIGINAL-URL:https://gamepointcafe.com
X-WR-CALDESC:Events for Game Point
REFRESH-INTERVAL;VALUE=DURATION:PT1H
X-Robots-Tag:noindex
X-PUBLISHED-TTL:PT1H
BEGIN:VTIMEZONE
TZID:America/Chicago
BEGIN:DAYLIGHT
TZOFFSETFROM:-0600
TZOFFSETTO:-0500
TZNAME:CDT
DTSTART:20220313T080000
END:DAYLIGHT
BEGIN:STANDARD
TZOFFSETFROM:-0500
TZOFFSETTO:-0600
TZNAME:CST
DTSTART:20221106T070000
END:STANDARD
BEGIN:DAYLIGHT
TZOFFSETFROM:-0600
TZOFFSETTO:-0500
TZNAME:CDT
DTSTART:20230312T080000
END:DAYLIGHT
BEGIN:STANDARD
TZOFFSETFROM:-0500
TZOFFSETTO:-0600
TZNAME:CST
DTSTART:20231105T070000
END:STANDARD
BEGIN:DAYLIGHT
TZOFFSETFROM:-0600
TZOFFSETTO:-0500
TZNAME:CDT
DTSTART:20240310T080000
END:DAYLIGHT
BEGIN:STANDARD
TZOFFSETFROM:-0500
TZOFFSETTO:-0600
TZNAME:CST
DTSTART:20241103T070000
END:STANDARD
END:VTIMEZONE
BEGIN:VEVENT
DTSTART;TZID=America/Chicago:20230501T180000
DTEND;TZID=America/Chicago:20230501T220000
DTSTAMP:20260423T052849
CREATED:20230425T185609Z
LAST-MODIFIED:20230425T185609Z
UID:10000649-1682964000-1682978400@gamepointcafe.com
SUMMARY:Magic Monday: Draft and a Drink
DESCRIPTION:Our Magic drafting event is back.  Formerly known as Draft and a Draught – seem idea but with wider selection.  We start off with a Magic the Gathering booster draft\, then add on to that a beer or latte of your choice.  Top that off with three rounds of Swiss with the deck you drafted\, each match win getting you a bonus pack.  It all adds up to a fun\, fun night.  $20 (plus tax) gets you the cards for the draft\, any prize packs you win\, and your first drink. \nTonight’s format will be March of the Machine \nThis isn’t Wizard Play sanctioned and usually is pretty laid back – a great way to play some Magic\, especially if you haven’t played in a while.  Six people minimum for the draft.  We start gathering at 6 pm and registering people as soon as we have six folks.  Then we aim to get started as close to 6:30 pm as we can. Hope you’ll come join us!
URL:https://gamepointcafe.com/event/magic-monday-draft-and-a-drink-13/
LOCATION:Game Point Cafe\, 107 S 11th Street\, Nashville\, TN\, 37206\, United States
CATEGORIES:Game Gathering,Magic the Gathering
ATTACH;FMTTYPE=image/png:https://gamepointcafe.com/wp-content/uploads/2020/01/magicdraft.png
END:VEVENT
BEGIN:VEVENT
DTSTART;TZID=America/Chicago:20230502T183000
DTEND;TZID=America/Chicago:20230502T220000
DTSTAMP:20260423T052849
CREATED:20230425T185828Z
LAST-MODIFIED:20230425T185828Z
UID:10000650-1683052200-1683064800@gamepointcafe.com
SUMMARY:Chess Night
DESCRIPTION:All skill levels are welcome at our monthly Chess Night at Game Point (first Tuesday of the month).  We’ll have a number of boards available for people to come in for a game.  In the before COVID times\, we had a number of people come in that had only played on the internet – and they commented how fun it was to play face to face.  You should be one of those faces! \nFor very new players\, one of our regulars won the 2020 Tennessee Open Amateur Division and would love to give some free lessons and pointers\, so come take advantage! \nChess Night happens monthly. Games happen throughout the night\, usually timed games (through chess timer phone apps).  We have a lot of sets\, so just show up\, order a drink\, and play!
URL:https://gamepointcafe.com/event/chess-night-43/
LOCATION:Game Point Cafe\, 107 S 11th Street\, Nashville\, TN\, 37206\, United States
CATEGORIES:Chess Night,Game Gathering
ATTACH;FMTTYPE=image/png:https://gamepointcafe.com/wp-content/uploads/2018/04/chessnight.png
END:VEVENT
BEGIN:VEVENT
DTSTART;TZID=America/Chicago:20230504T183000
DTEND;TZID=America/Chicago:20230504T220000
DTSTAMP:20260423T052849
CREATED:20230425T191820Z
LAST-MODIFIED:20230504T175036Z
UID:10000651-1683225000-1683237600@gamepointcafe.com
SUMMARY:Keyforge: Archon Tournament
DESCRIPTION:Tonight’s event will be a best of one\, Archon format.  You will need to bring our own Keyforge deck to the event.  Arrive by 6:30 pm to register your deck and sign in. First round will start shortly thereafter.  We ask that everyone playing plan to spend a minimum of $10 in food or drink.  We will have a prize for the winner and a randomly drawn prize from everyone playing. \nNew Players – if you are interested in Keyforge\, come on out!  Our Game Coach will be around to teach the game to you!  You don’t have to play in the tournament and the community is a welcoming one!
URL:https://gamepointcafe.com/event/keyforge-archon-tournament-5/
LOCATION:Game Point Cafe\, 107 S 11th Street\, Nashville\, TN\, 37206\, United States
CATEGORIES:Game Gathering,Keyforge
ATTACH;FMTTYPE=image/jpeg:https://gamepointcafe.com/wp-content/uploads/2018/10/Keyforge.jpg
END:VEVENT
BEGIN:VEVENT
DTSTART;TZID=America/Chicago:20230508T183000
DTEND;TZID=America/Chicago:20230508T220000
DTSTAMP:20260423T052849
CREATED:20230425T193416Z
LAST-MODIFIED:20230425T193416Z
UID:10000652-1683570600-1683583200@gamepointcafe.com
SUMMARY:Magic Monday: Casual Commander Night
DESCRIPTION:Calling all Magic: the Gathering players\, this night is for you!  Bring your commander decks into Game Point tonight and play some casual commander games. \nThere’s never a fee for this event\, but we kindly suggest you plan to spend $10 on food and drink while tapping mana and casting spells!
URL:https://gamepointcafe.com/event/magic-monday-casual-commander-night-26/
LOCATION:Game Point Cafe\, 107 S 11th Street\, Nashville\, TN\, 37206\, United States
CATEGORIES:Game Gathering,Magic the Gathering
ATTACH;FMTTYPE=image/png:https://gamepointcafe.com/wp-content/uploads/2022/08/commander.png
END:VEVENT
BEGIN:VEVENT
DTSTART;TZID=America/Chicago:20230511T183000
DTEND;TZID=America/Chicago:20230511T220000
DTSTAMP:20260423T052849
CREATED:20230511T042315Z
LAST-MODIFIED:20230602T131345Z
UID:10000655-1683829800-1683842400@gamepointcafe.com
SUMMARY:SolForge Fusion Event
DESCRIPTION:Ready for some SolForge Fusion?  Come on in to register between 6 pm and 6:30 pm.  Event will kick off at 6:30 pm and be a Swiss style game with best of 1 matches.  No fee for playing but please plan on purchasing food or drinks to help make this possible.  Prize for best record and a random drawing from everyone that played.  Even if you are new to the game\, you are encouraged to play.  We have all skill levels and this is a great way to get in several games and get more experience – and our crowd is friendly and welcoming! \nOn Thursdays\, we Forge!
URL:https://gamepointcafe.com/event/solforge-fusion-event-3/2023-05-11/
LOCATION:Game Point Cafe\, 107 S 11th Street\, Nashville\, TN\, 37206\, United States
CATEGORIES:Game Gathering,SolForge Fusion
ATTACH;FMTTYPE=image/png:https://gamepointcafe.com/wp-content/uploads/2022/07/solforge.png
END:VEVENT
BEGIN:VEVENT
DTSTART;TZID=America/Chicago:20230515T180000
DTEND;TZID=America/Chicago:20230515T220000
DTSTAMP:20260423T052849
CREATED:20230515T035405Z
LAST-MODIFIED:20231030T160254Z
UID:10000657-1684173600-1684188000@gamepointcafe.com
SUMMARY:Magic Monday: Draft and a Drink
DESCRIPTION:Our Magic drafting event is back.  Formerly known as Draft and a Draught – seem idea but with wider selection.  We start off with a Magic the Gathering booster draft\, then add on to that a beer or latte of your choice.  Top that off with three rounds of Swiss with the deck you drafted\, each match win getting you a bonus pack.  It all adds up to a fun\, fun night.  $20 (plus tax) gets you the cards for the draft\, any prize packs you win\, and your first drink. \nCheck our social media the day of the event for that night’s format! \nThis isn’t Wizard Play sanctioned and usually is pretty laid back – a great way to play some Magic\, especially if you haven’t played in a while.  Six people minimum for the draft.  We start gathering at 6 pm and registering people as soon as we have six folks.  Then we aim to get started as close to 6:30 pm as we can. Hope you’ll come join us!
URL:https://gamepointcafe.com/event/magic-monday-draft-and-a-drink-14/2023-05-15/
LOCATION:Game Point Cafe\, 107 S 11th Street\, Nashville\, TN\, 37206\, United States
CATEGORIES:Game Gathering,Magic the Gathering
ATTACH;FMTTYPE=image/png:https://gamepointcafe.com/wp-content/uploads/2020/01/magicdraft.png
END:VEVENT
BEGIN:VEVENT
DTSTART;TZID=America/Chicago:20230529T180000
DTEND;TZID=America/Chicago:20230529T220000
DTSTAMP:20260423T052849
CREATED:20230515T035405Z
LAST-MODIFIED:20231030T160254Z
UID:10000658-1685383200-1685397600@gamepointcafe.com
SUMMARY:Magic Monday: Draft and a Drink
DESCRIPTION:Our Magic drafting event is back.  Formerly known as Draft and a Draught – seem idea but with wider selection.  We start off with a Magic the Gathering booster draft\, then add on to that a beer or latte of your choice.  Top that off with three rounds of Swiss with the deck you drafted\, each match win getting you a bonus pack.  It all adds up to a fun\, fun night.  $20 (plus tax) gets you the cards for the draft\, any prize packs you win\, and your first drink. \nCheck our social media the day of the event for that night’s format! \nThis isn’t Wizard Play sanctioned and usually is pretty laid back – a great way to play some Magic\, especially if you haven’t played in a while.  Six people minimum for the draft.  We start gathering at 6 pm and registering people as soon as we have six folks.  Then we aim to get started as close to 6:30 pm as we can. Hope you’ll come join us!
URL:https://gamepointcafe.com/event/magic-monday-draft-and-a-drink-14/2023-05-29/
LOCATION:Game Point Cafe\, 107 S 11th Street\, Nashville\, TN\, 37206\, United States
CATEGORIES:Game Gathering,Magic the Gathering
ATTACH;FMTTYPE=image/png:https://gamepointcafe.com/wp-content/uploads/2020/01/magicdraft.png
END:VEVENT
END:VCALENDAR