BEGIN:VCALENDAR
VERSION:2.0
PRODID:-//Game Point - ECPv6.15.20//NONSGML v1.0//EN
CALSCALE:GREGORIAN
METHOD:PUBLISH
X-ORIGINAL-URL:https://gamepointcafe.com
X-WR-CALDESC:Events for Game Point
REFRESH-INTERVAL;VALUE=DURATION:PT1H
X-Robots-Tag:noindex
X-PUBLISHED-TTL:PT1H
BEGIN:VTIMEZONE
TZID:America/Chicago
BEGIN:DAYLIGHT
TZOFFSETFROM:-0600
TZOFFSETTO:-0500
TZNAME:CDT
DTSTART:20220313T080000
END:DAYLIGHT
BEGIN:STANDARD
TZOFFSETFROM:-0500
TZOFFSETTO:-0600
TZNAME:CST
DTSTART:20221106T070000
END:STANDARD
BEGIN:DAYLIGHT
TZOFFSETFROM:-0600
TZOFFSETTO:-0500
TZNAME:CDT
DTSTART:20230312T080000
END:DAYLIGHT
BEGIN:STANDARD
TZOFFSETFROM:-0500
TZOFFSETTO:-0600
TZNAME:CST
DTSTART:20231105T070000
END:STANDARD
BEGIN:DAYLIGHT
TZOFFSETFROM:-0600
TZOFFSETTO:-0500
TZNAME:CDT
DTSTART:20240310T080000
END:DAYLIGHT
BEGIN:STANDARD
TZOFFSETFROM:-0500
TZOFFSETTO:-0600
TZNAME:CST
DTSTART:20241103T070000
END:STANDARD
END:VTIMEZONE
BEGIN:VEVENT
DTSTART;TZID=America/Chicago:20230309T183000
DTEND;TZID=America/Chicago:20230309T220000
DTSTAMP:20260423T033519
CREATED:20230214T175108Z
LAST-MODIFIED:20230214T175108Z
UID:10000459-1678386600-1678399200@gamepointcafe.com
SUMMARY:Keyforge - Grab Bag Sealed Event
DESCRIPTION:We’re are bring back the successful and super fun Sealed Grab Bag event.  At the start of the event\,  you’ll pay $10 for a Keyforge deck and then you’ll reach into a bag and grab a sealed deck.  That’s your deck for the evening’s tournament.  The twist is that the grab bag is full of decks from lots of different Keyforge sets!  We’ll play some Swiss pairing games – each win gets you an entry in the night’s door prize drawing. \nOn Thursdays\, we forge!
URL:https://gamepointcafe.com/event/keyforge-grab-bag-sealed-event-7/
LOCATION:Game Point Cafe\, 107 S 11th Street\, Nashville\, TN\, 37206\, United States
CATEGORIES:Game Gathering,Keyforge
ATTACH;FMTTYPE=image/jpeg:https://gamepointcafe.com/wp-content/uploads/2018/10/Keyforge.jpg
END:VEVENT
BEGIN:VEVENT
DTSTART;TZID=America/Chicago:20230330T183000
DTEND;TZID=America/Chicago:20230330T220000
DTSTAMP:20260423T033519
CREATED:20230214T180924Z
LAST-MODIFIED:20230214T180924Z
UID:10000467-1680201000-1680213600@gamepointcafe.com
SUMMARY:Keyfoge Khaos Event
DESCRIPTION:The Archons home was disrupted and now they are adrift in the galaxy and looking for a new home.  As they bounce around random cosmic rays are causing chaos with the Archons – each affecting them in weird and unexpected ways. \nTonight’s event will be a Keyforge Archon event – bring a deck and get ready to play some Swiss paired games.  The hitch?  Before each round we will be announcing a small tweak that will alter the rules of the game in a different way – can you adapt to the new environment?!  Prize for the best record and for a randomly draw player as well.  Come on out! \nOn Thursdays\, we forge!
URL:https://gamepointcafe.com/event/keyfoge-khaos-event/
LOCATION:Game Point Cafe\, 107 S 11th Street\, Nashville\, TN\, 37206\, United States
CATEGORIES:Game Gathering,Keyforge
ATTACH;FMTTYPE=image/jpeg:https://gamepointcafe.com/wp-content/uploads/2018/10/Keyforge.jpg
END:VEVENT
END:VCALENDAR