BEGIN:VCALENDAR
VERSION:2.0
PRODID:-//Game Point - ECPv6.15.20//NONSGML v1.0//EN
CALSCALE:GREGORIAN
METHOD:PUBLISH
X-WR-CALNAME:Game Point
X-ORIGINAL-URL:https://gamepointcafe.com
X-WR-CALDESC:Events for Game Point
REFRESH-INTERVAL;VALUE=DURATION:PT1H
X-Robots-Tag:noindex
X-PUBLISHED-TTL:PT1H
BEGIN:VTIMEZONE
TZID:America/Chicago
BEGIN:DAYLIGHT
TZOFFSETFROM:-0600
TZOFFSETTO:-0500
TZNAME:CDT
DTSTART:20210314T080000
END:DAYLIGHT
BEGIN:STANDARD
TZOFFSETFROM:-0500
TZOFFSETTO:-0600
TZNAME:CST
DTSTART:20211107T070000
END:STANDARD
BEGIN:DAYLIGHT
TZOFFSETFROM:-0600
TZOFFSETTO:-0500
TZNAME:CDT
DTSTART:20220313T080000
END:DAYLIGHT
BEGIN:STANDARD
TZOFFSETFROM:-0500
TZOFFSETTO:-0600
TZNAME:CST
DTSTART:20221106T070000
END:STANDARD
BEGIN:DAYLIGHT
TZOFFSETFROM:-0600
TZOFFSETTO:-0500
TZNAME:CDT
DTSTART:20230312T080000
END:DAYLIGHT
BEGIN:STANDARD
TZOFFSETFROM:-0500
TZOFFSETTO:-0600
TZNAME:CST
DTSTART:20231105T070000
END:STANDARD
END:VTIMEZONE
BEGIN:VEVENT
DTSTART;TZID=America/Chicago:20221212T180000
DTEND;TZID=America/Chicago:20221212T220000
DTSTAMP:20260420T081203
CREATED:20221107T153331Z
LAST-MODIFIED:20221107T160109Z
UID:10000580-1670868000-1670882400@gamepointcafe.com
SUMMARY:Magic Monday: Draft and a Drink
DESCRIPTION:Our Magic drafting event is back.  Formerly known as Draft and a Draught – seem idea but with wider selection.  We start off with a Magic the Gathering booster draft\, then add on to that a beer or latte of your choice.  Top that off with three rounds of Swiss with the deck you drafted\, each match win getting you a bonus pack.  It all adds up to a fun\, fun night.  $20 (plus tax) gets you the cards for the draft\, any prize packs you win\, and your first drink. \nTonight’s format will be Brother’s War. \nThis isn’t Wizard Play sanctioned and usually is pretty laid back – a great way to play some Magic\, especially if you haven’t played in a while.  Six people minimum for the draft.  We start gathering at 6 pm and registering people as soon as we have six folks.  Then we aim to get started as close to 6:30 pm as we can. Hope you’ll come join us!
URL:https://gamepointcafe.com/event/magic-monday-draft-and-a-drink-3/
LOCATION:Game Point Cafe\, 107 S 11th Street\, Nashville\, TN\, 37206\, United States
CATEGORIES:Game Gathering,Magic the Gathering
ATTACH;FMTTYPE=image/png:https://gamepointcafe.com/wp-content/uploads/2020/01/magicdraft.png
END:VEVENT
BEGIN:VEVENT
DTSTART;TZID=America/Chicago:20221205T183000
DTEND;TZID=America/Chicago:20221205T220000
DTSTAMP:20260420T081203
CREATED:20221107T151955Z
LAST-MODIFIED:20221107T151955Z
UID:10000575-1670265000-1670277600@gamepointcafe.com
SUMMARY:Magic Monday: Casual Commander Night
DESCRIPTION:Calling all Magic: the Gathering players\, this night is for you!  Bring your commander decks into Game Point tonight and play some casual commander games. \nThere’s never a fee for this event\, but we kindly suggest you plan to spend $10 on food and drink while tapping mana and casting spells!
URL:https://gamepointcafe.com/event/magic-monday-casual-commander-night-15/
LOCATION:Game Point Cafe\, 107 S 11th Street\, Nashville\, TN\, 37206\, United States
CATEGORIES:Game Gathering,Magic the Gathering
ATTACH;FMTTYPE=image/png:https://gamepointcafe.com/wp-content/uploads/2022/08/commander.png
END:VEVENT
BEGIN:VEVENT
DTSTART;TZID=America/Chicago:20221128T180000
DTEND;TZID=America/Chicago:20221128T220000
DTSTAMP:20260420T081203
CREATED:20221107T153232Z
LAST-MODIFIED:20221107T160056Z
UID:10000579-1669658400-1669672800@gamepointcafe.com
SUMMARY:Magic Monday: Draft and a Drink
DESCRIPTION:Our Magic drafting event is back.  Formerly known as Draft and a Draught – seem idea but with wider selection.  We start off with a Magic the Gathering booster draft\, then add on to that a beer or latte of your choice.  Top that off with three rounds of Swiss with the deck you drafted\, each match win getting you a bonus pack.  It all adds up to a fun\, fun night.  $20 (plus tax) gets you the cards for the draft\, any prize packs you win\, and your first drink. \nTonight’s format will be Brother’s War. \nThis isn’t Wizard Play sanctioned and usually is pretty laid back – a great way to play some Magic\, especially if you haven’t played in a while.  Six people minimum for the draft.  We start gathering at 6 pm and registering people as soon as we have six folks.  Then we aim to get started as close to 6:30 pm as we can. Hope you’ll come join us!
URL:https://gamepointcafe.com/event/magic-monday-draft-and-a-drink-2/
LOCATION:Game Point Cafe\, 107 S 11th Street\, Nashville\, TN\, 37206\, United States
CATEGORIES:Game Gathering,Magic the Gathering
ATTACH;FMTTYPE=image/png:https://gamepointcafe.com/wp-content/uploads/2020/01/magicdraft.png
END:VEVENT
BEGIN:VEVENT
DTSTART;TZID=America/Chicago:20221121T183000
DTEND;TZID=America/Chicago:20221121T220000
DTSTAMP:20260420T081203
CREATED:20221107T151706Z
LAST-MODIFIED:20221107T151706Z
UID:10000574-1669055400-1669068000@gamepointcafe.com
SUMMARY:Magic Monday: Casual Commander Night
DESCRIPTION:Calling all Magic: the Gathering players\, this night is for you!  Bring your commander decks into Game Point tonight and play some casual commander games. \nThere’s never a fee for this event\, but we kindly suggest you plan to spend $10 on food and drink while tapping mana and casting spells!
URL:https://gamepointcafe.com/event/magic-monday-casual-commander-night-14/
LOCATION:Game Point Cafe\, 107 S 11th Street\, Nashville\, TN\, 37206\, United States
CATEGORIES:Game Gathering,Magic the Gathering
ATTACH;FMTTYPE=image/png:https://gamepointcafe.com/wp-content/uploads/2022/08/commander.png
END:VEVENT
BEGIN:VEVENT
DTSTART;TZID=America/Chicago:20221114T183000
DTEND;TZID=America/Chicago:20221114T220000
DTSTAMP:20260420T081203
CREATED:20221107T153130Z
LAST-MODIFIED:20221107T160046Z
UID:10000577-1668450600-1668463200@gamepointcafe.com
SUMMARY:Magic Monday: Draft and a Drink
DESCRIPTION:Our Magic drafting event is back.  Formerly known as Draft and a Draught – seem idea but with wider selection.  We start off with a Magic the Gathering booster draft\, then add on to that a beer or latte of your choice.  Top that off with three rounds of Swiss with the deck you drafted\, each match win getting you a bonus pack.  It all adds up to a fun\, fun night.  $20 (plus tax) gets you the cards for the draft\, any prize packs you win\, and your first drink. \nTonight’s format will be Dominaria United. \nThis isn’t Wizard Play sanctioned and usually is pretty laid back – a great way to play some Magic\, especially if you haven’t played in a while.  Six people minimum for the draft.  We start gathering at 6 pm and registering people as soon as we have six folks.  Then we aim to get started as close to 6:30 pm as we can. Hope you’ll come join us!
URL:https://gamepointcafe.com/event/magic-monday-draft-and-a-drink/
LOCATION:Game Point Cafe\, 107 S 11th Street\, Nashville\, TN\, 37206\, United States
CATEGORIES:Game Gathering,Magic the Gathering
ATTACH;FMTTYPE=image/png:https://gamepointcafe.com/wp-content/uploads/2020/01/magicdraft.png
END:VEVENT
BEGIN:VEVENT
DTSTART;TZID=America/Chicago:20221107T183000
DTEND;TZID=America/Chicago:20221107T220000
DTSTAMP:20260420T081203
CREATED:20221107T151620Z
LAST-MODIFIED:20221107T151620Z
UID:10000578-1667845800-1667858400@gamepointcafe.com
SUMMARY:Magic Monday: Casual Commander Night
DESCRIPTION:Calling all Magic: the Gathering players\, this night is for you!  Bring your commander decks into Game Point tonight and play some casual commander games. \nThere’s never a fee for this event\, but we kindly suggest you plan to spend $10 on food and drink while tapping mana and casting spells!
URL:https://gamepointcafe.com/event/magic-monday-casual-commander-night-13/
LOCATION:Game Point Cafe\, 107 S 11th Street\, Nashville\, TN\, 37206\, United States
CATEGORIES:Game Gathering,Magic the Gathering
ATTACH;FMTTYPE=image/png:https://gamepointcafe.com/wp-content/uploads/2022/08/commander.png
END:VEVENT
BEGIN:VEVENT
DTSTART;TZID=America/Chicago:20221024T180000
DTEND;TZID=America/Chicago:20221024T220000
DTSTAMP:20260420T081203
CREATED:20221024T200725Z
LAST-MODIFIED:20221024T200725Z
UID:10000565-1666634400-1666648800@gamepointcafe.com
SUMMARY:Draft and a Drink
DESCRIPTION:Our Magic drafting event is back.  Formerly known as Draft and a Draught – seem idea but with wider selection.  We start off with a Magic the Gathering booster draft\, then add on to that a beer or latte of your choice.  Top that off with three rounds of Swiss with the deck you drafted\, each match win getting you a bonus pack.  It all adds up to a fun\, fun night.  $20 (plus tax) gets you the cards for the draft\, any prize packs you win\, and your first drink. \nTo go along with October’s Vampire Theme at Game Point\, tonight’s draft set will be Crimson Vow! \nThis isn’t Wizard Play sanctioned and usually is pretty laid back – a great way to play some Magic\, especially if you haven’t played in a while.  We start registering people at 6:00 and aim to get started by 6:30 pm. Six people minimum for the draft.  Hope you’ll come join us!
URL:https://gamepointcafe.com/event/draft-and-a-drink/
LOCATION:Game Point Cafe\, 107 S 11th Street\, Nashville\, TN\, 37206\, United States
CATEGORIES:Game Gathering,Magic the Gathering
ATTACH;FMTTYPE=image/png:https://gamepointcafe.com/wp-content/uploads/2020/01/magicdraft.png
END:VEVENT
BEGIN:VEVENT
DTSTART;TZID=America/Chicago:20221010T180000
DTEND;TZID=America/Chicago:20221010T220000
DTSTAMP:20260420T081203
CREATED:20221010T134826Z
LAST-MODIFIED:20221010T134826Z
UID:10000560-1665424800-1665439200@gamepointcafe.com
SUMMARY:Magic: The Gathering - Draft and a Drink
DESCRIPTION:Our Magic drafting event is back.  Formerly known as Draft and a Draught – seem idea but with wider selection.  We start off with a Magic the Gathering booster draft\, then add on to that a beer or latte of your choice.  Top that off with three rounds of Swiss with the deck you drafted\, each match win getting you a bonus pack.  It all adds up to a fun\, fun night.  $20 (plus tax) gets you the cards for the draft\, any prize packs you win\, and your first drink. \nTonight’s fomart will be Dominaria United. \nThis isn’t Wizard Play sanctioned and usually is pretty laid back – a great way to play some Magic\, especially if you haven’t played in a while.  We start registering people at 6:00 and aim to get started by 6:30 pm. Six people minimum for the draft.  Hope you’ll come join us!
URL:https://gamepointcafe.com/event/magic-the-gathering-draft-and-a-drink-10/
LOCATION:Game Point Cafe\, 107 S 11th Street\, Nashville\, TN\, 37206\, United States
CATEGORIES:Game Gathering,Magic the Gathering
ATTACH;FMTTYPE=image/png:https://gamepointcafe.com/wp-content/uploads/2020/01/magicdraft.png
END:VEVENT
BEGIN:VEVENT
DTSTART;TZID=America/Chicago:20221003T183000
DTEND;TZID=America/Chicago:20221003T213000
DTSTAMP:20260420T081203
CREATED:20220929T225332Z
LAST-MODIFIED:20220929T225332Z
UID:10000391-1664821800-1664832600@gamepointcafe.com
SUMMARY:Magic Monday: Casual Commander Night
DESCRIPTION:Calling all Magic: the Gathering players\, this night is for you!  Bring your commander decks into Game Point tonight and play some casual commander games. \nThere’s never a fee for this event\, but we kindly suggest you plan to spend $10 on food and drink while tapping mana and casting spells!
URL:https://gamepointcafe.com/event/magic-monday-casual-commander-night-12/
LOCATION:Game Point Cafe\, 107 S 11th Street\, Nashville\, TN\, 37206\, United States
CATEGORIES:Game Gathering,Magic the Gathering
ATTACH;FMTTYPE=image/png:https://gamepointcafe.com/wp-content/uploads/2022/08/commander.png
END:VEVENT
BEGIN:VEVENT
DTSTART;TZID=America/Chicago:20220926T180000
DTEND;TZID=America/Chicago:20220926T220000
DTSTAMP:20260420T081203
CREATED:20220812T020455Z
LAST-MODIFIED:20220812T020554Z
UID:10000552-1664215200-1664229600@gamepointcafe.com
SUMMARY:Magic: The Gathering - Draft and a Drink
DESCRIPTION:Our Magic drafting event is back.  Formerly known as Draft and a Draught – seem idea but with wider selection.  We start off with a Magic the Gathering booster draft\, then add on to that a beer or latte of your choice.  Top that off with three rounds of Swiss with the deck you drafted\, each match win getting you a bonus pack.  It all adds up to a fun\, fun night.  $18 (plus tax) gets you the cards for the draft\, any prize packs you win\, and your first drink. \nTonight’s fomart will be Dominaria United. \nThis isn’t Wizard Play sanctioned and usually is pretty laid back – a great way to play some Magic\, especially if you haven’t played in a while.  We start registering people at 6:00 and aim to get started by 6:30 pm. Six people minimum for the draft.  Hope you’ll come join us!
URL:https://gamepointcafe.com/event/magic-the-gathering-draft-and-a-drink-9/
LOCATION:Game Point Cafe\, 107 S 11th Street\, Nashville\, TN\, 37206\, United States
CATEGORIES:Game Gathering,Magic the Gathering
ATTACH;FMTTYPE=image/png:https://gamepointcafe.com/wp-content/uploads/2020/01/magicdraft.png
END:VEVENT
BEGIN:VEVENT
DTSTART;TZID=America/Chicago:20220919T183000
DTEND;TZID=America/Chicago:20220919T220000
DTSTAMP:20260420T081203
CREATED:20220812T010359Z
LAST-MODIFIED:20220812T010359Z
UID:10000546-1663612200-1663624800@gamepointcafe.com
SUMMARY:Magic Monday: Casual Commander Night
DESCRIPTION:Calling all Magic: the Gathering players\, this night is for you!  Bring your commander decks into Game Point tonight and play some casual commander games. \nThere’s never a fee for this event\, but we kindly suggest you plan to spend $10 on food and drink while tapping mana and casting spells!
URL:https://gamepointcafe.com/event/magic-monday-casual-commander-night-11/
LOCATION:Game Point Cafe\, 107 S 11th Street\, Nashville\, TN\, 37206\, United States
CATEGORIES:Game Gathering,Magic the Gathering
ATTACH;FMTTYPE=image/png:https://gamepointcafe.com/wp-content/uploads/2022/08/commander.png
END:VEVENT
BEGIN:VEVENT
DTSTART;TZID=America/Chicago:20220912T180000
DTEND;TZID=America/Chicago:20220912T220000
DTSTAMP:20260420T081203
CREATED:20220812T020249Z
LAST-MODIFIED:20220812T020351Z
UID:10000551-1663005600-1663020000@gamepointcafe.com
SUMMARY:Magic: The Gathering - Draft and a Drink
DESCRIPTION:Our Magic drafting event is back.  Formerly known as Draft and a Draught – seem idea but with wider selection.  We start off with a Magic the Gathering booster draft\, then add on to that a beer or latte of your choice.  Top that off with three rounds of Swiss with the deck you drafted\, each match win getting you a bonus pack.  It all adds up to a fun\, fun night.  $18 (plus tax) gets you the cards for the draft\, any prize packs you win\, and your first drink. \nProvided the supply chain gods smile on use\, we’ll be drafting Dominaria United tonight. \nThis isn’t Wizard Play sanctioned and usually is pretty laid back – a great way to play some Magic\, especially if you haven’t played in a while.  We start registering people at 6:00 and aim to get started by 6:30 pm. Six people minimum for the draft.  Hope you’ll come join us!
URL:https://gamepointcafe.com/event/magic-the-gathering-draft-and-a-drink-8/
LOCATION:Game Point Cafe\, 107 S 11th Street\, Nashville\, TN\, 37206\, United States
CATEGORIES:Game Gathering,Magic the Gathering
ATTACH;FMTTYPE=image/png:https://gamepointcafe.com/wp-content/uploads/2020/01/magicdraft.png
END:VEVENT
BEGIN:VEVENT
DTSTART;TZID=America/Chicago:20220829T183000
DTEND;TZID=America/Chicago:20220829T220000
DTSTAMP:20260420T081203
CREATED:20220715T214153Z
LAST-MODIFIED:20220715T214153Z
UID:10000529-1661797800-1661810400@gamepointcafe.com
SUMMARY:Magic Monday: Casual Commander Night
DESCRIPTION:Calling all Magic: the Gathering players\, this night is for you!  Bring your commander decks into Game Point tonight and play some casual commander games. \nThere’s never a fee for this event\, but we kindly suggest you plan to spend $10 on food and drink while tapping mana and casting spells!
URL:https://gamepointcafe.com/event/magic-monday-casual-commander-night-10/
LOCATION:Game Point Cafe\, 107 S 11th Street\, Nashville\, TN\, 37206\, United States
CATEGORIES:Game Gathering,Magic the Gathering
ATTACH;FMTTYPE=image/png:https://gamepointcafe.com/wp-content/uploads/2022/07/commander.png
END:VEVENT
BEGIN:VEVENT
DTSTART;TZID=America/Chicago:20220822T180000
DTEND;TZID=America/Chicago:20220822T220000
DTSTAMP:20260420T081203
CREATED:20220715T210620Z
LAST-MODIFIED:20220715T210620Z
UID:10000527-1661191200-1661205600@gamepointcafe.com
SUMMARY:Magic Monday - Pack Wars
DESCRIPTION:A fifth Monday in August calls for us to roll out something special.  That something?  Pack Wars! \nHere’s how it will work.  Each player will be given a sealed booster pack and 10 lands (two of each color).  You open the pack\, removed the token card and shuffle up the pack and lands without looking at the cards (you can bring sleeves for the deck if you want to sleeve them).  You then play a 2 out of 3 match of Magic with your 25 card decks with the following rule additions: \n– Each player will start with 15 life. \n– Once per game a player can elect at the end of their turn to shuffle their graveyard into their library. \n\n– A player may play any basic land in their hand face down as a “City of Brass” – a land that taps to produce any color of mana and damages you for one point.\n\nAfter the match\, losing players can look at their deck and opt for a second pack\, forfeiting their first.  Winning players don’t get to look and just shuffle back up for match two.  Whoever has the best record at the end of three rounds will get all the forfeited decks\, or a $10 Game Point Gift Card if no one opts for the redo (multiple best records? we’ll cut down for a single elimination).  Buy in for the night will be $10 and include your first drink.  We’ll start gathering at 6 pm and start promptly at 6:30 pm.
URL:https://gamepointcafe.com/event/magic-monday-pack-wars/
LOCATION:Game Point Cafe\, 107 S 11th Street\, Nashville\, TN\, 37206\, United States
CATEGORIES:Game Gathering,Magic the Gathering
ATTACH;FMTTYPE=image/png:https://gamepointcafe.com/wp-content/uploads/2022/07/packwars.png
END:VEVENT
BEGIN:VEVENT
DTSTART;TZID=America/Chicago:20220815T180000
DTEND;TZID=America/Chicago:20220815T220000
DTSTAMP:20260420T081203
CREATED:20220715T201457Z
LAST-MODIFIED:20220715T201537Z
UID:10000526-1660586400-1660600800@gamepointcafe.com
SUMMARY:Magic: The Gathering - Draft and a Drink
DESCRIPTION:Our Magic drafting event is back.  Formerly known as Draft and a Draught – seem idea but with wider selection.  We start off with a Magic the Gathering booster draft\, then add on to that a beer or latte of your choice.  Top that off with three rounds of Swiss with the deck you drafted\, each match win getting you a bonus pack.  It all adds up to a fun\, fun night.  $18 (plus tax) gets you the cards for the draft\, any prize packs you win\, and your first drink. \nWith a couple weeks to go before Dominaria United drops\, we’re reaching into the archives for a throwback format: Rivals of Ixalan. \nThis isn’t Wizard Play sanctioned and usually is pretty laid back – a great way to play some Magic\, especially if you haven’t played in a while.  We start registering people at 6:00 and aim to get started by 6:30 pm. Six people minimum for the draft.  Hope you’ll come join us!
URL:https://gamepointcafe.com/event/magic-the-gathering-draft-and-a-drink-7/
LOCATION:Game Point Cafe\, 107 S 11th Street\, Nashville\, TN\, 37206\, United States
CATEGORIES:Game Gathering,Magic the Gathering
ATTACH;FMTTYPE=image/png:https://gamepointcafe.com/wp-content/uploads/2020/01/magicdraft.png
END:VEVENT
BEGIN:VEVENT
DTSTART;TZID=America/Chicago:20220808T183000
DTEND;TZID=America/Chicago:20220808T220000
DTSTAMP:20260420T081203
CREATED:20220715T214110Z
LAST-MODIFIED:20220715T214110Z
UID:10000528-1659983400-1659996000@gamepointcafe.com
SUMMARY:Magic Monday: Casual Commander Night
DESCRIPTION:Calling all Magic: the Gathering players\, this night is for you!  Bring your commander decks into Game Point tonight and play some casual commander games. \nThere’s never a fee for this event\, but we kindly suggest you plan to spend $10 on food and drink while tapping mana and casting spells!
URL:https://gamepointcafe.com/event/magic-monday-casual-commander-night-9/
LOCATION:Game Point Cafe\, 107 S 11th Street\, Nashville\, TN\, 37206\, United States
CATEGORIES:Game Gathering,Magic the Gathering
ATTACH;FMTTYPE=image/png:https://gamepointcafe.com/wp-content/uploads/2022/07/commander.png
END:VEVENT
BEGIN:VEVENT
DTSTART;TZID=America/Chicago:20220801T180000
DTEND;TZID=America/Chicago:20220801T220000
DTSTAMP:20260420T081203
CREATED:20220715T201128Z
LAST-MODIFIED:20220715T201128Z
UID:10000525-1659376800-1659391200@gamepointcafe.com
SUMMARY:Magic: The Gathering - Draft and a Drink
DESCRIPTION:Our Magic drafting event is back.  Formerly known as Draft and a Draught – seem idea but with wider selection.  We start off with a Magic the Gathering booster draft\, then add on to that a beer or latte of your choice.  Top that off with three rounds of Swiss with the deck you drafted\, each match win getting you a bonus pack.  It all adds up to a fun\, fun night.  $20 (plus tax) gets you the cards for the draft and your first drink. \nSet for this draft will Commander Legends: Battle for Baldur’s Gate.  We will draft the set\, and then make pods up for commander games.  We’ll also randomly draw a winner of a Game Point Gift Card for coming out that evening! \nThis isn’t Wizard Play sanctioned and usually is pretty laid back – a great way to play some Magic\, especially if you haven’t played in a while.  We start registering people at 6:00 and aim to get started by 6:30 pm. Six people minimum for the draft.  Hope you’ll come join us!
URL:https://gamepointcafe.com/event/magic-the-gathering-draft-and-a-drink-6/
LOCATION:Game Point Cafe\, 107 S 11th Street\, Nashville\, TN\, 37206\, United States
CATEGORIES:Game Gathering,Magic the Gathering
ATTACH;FMTTYPE=image/png:https://gamepointcafe.com/wp-content/uploads/2020/01/magicdraft.png
END:VEVENT
BEGIN:VEVENT
DTSTART;TZID=America/Chicago:20220725T183000
DTEND;TZID=America/Chicago:20220725T220000
DTSTAMP:20260420T081203
CREATED:20220605T142412Z
LAST-MODIFIED:20220605T142412Z
UID:10000512-1658773800-1658786400@gamepointcafe.com
SUMMARY:Magic Monday: Casual Commander Night
DESCRIPTION:Calling all Magic: the Gathering players\, this night is for you!  Bring your commander decks into Game Point tonight and play some casual commander games. \nThere’s never a fee for this event\, but we kindly suggest you plan to spend $10 on food and drink while tapping mana and casting spells!
URL:https://gamepointcafe.com/event/magic-monday-casual-commander-night-8/
LOCATION:Game Point Cafe\, 107 S 11th Street\, Nashville\, TN\, 37206\, United States
CATEGORIES:Game Gathering,Magic the Gathering
END:VEVENT
BEGIN:VEVENT
DTSTART;TZID=America/Chicago:20220718T183000
DTEND;TZID=America/Chicago:20220718T220000
DTSTAMP:20260420T081203
CREATED:20220605T135928Z
LAST-MODIFIED:20220605T141153Z
UID:10000509-1658169000-1658181600@gamepointcafe.com
SUMMARY:Magic Monday: Standard Play
DESCRIPTION:We have had to shuffle things around for staffing reasons\, so Standard Play will be the third Monday of the month.  In July\, we will host an open play evening with the goal of gearing up to a regular event if there is interest.
URL:https://gamepointcafe.com/event/magic-monday-standard-play-2/
LOCATION:Game Point Cafe\, 107 S 11th Street\, Nashville\, TN\, 37206\, United States
CATEGORIES:Game Gathering,Magic the Gathering
END:VEVENT
BEGIN:VEVENT
DTSTART;TZID=America/Chicago:20220711T180000
DTEND;TZID=America/Chicago:20220711T220000
DTSTAMP:20260420T081203
CREATED:20220605T141412Z
LAST-MODIFIED:20220605T141412Z
UID:10000511-1657562400-1657576800@gamepointcafe.com
SUMMARY:Magic: The Gathering - Draft and a Drink
DESCRIPTION:Our Magic drafting event is back.  Formerly known as Draft and a Draught – seem idea but with wider selection.  We start off with a Magic the Gathering booster draft\, then add on to that a beer or latte of your choice.  Top that off with three rounds of Swiss with the deck you drafted\, each match win getting you a bonus pack.  It all adds up to a fun\, fun night.  $18 (plus tax) gets you the cards for the draft\, any prize packs you win\, and your first drink. \nSet for this draft will be Streets of New Capenna. \nThis isn’t Wizard Play sanctioned and usually is pretty laid back – a great way to play some Magic\, especially if you haven’t played in a while.  We start registering people at 6:00 and aim to get started by 6:30 pm. Six people minimum for the draft.  Hope you’ll come join us!
URL:https://gamepointcafe.com/event/magic-the-gathering-draft-and-a-drink-5/
LOCATION:Game Point Cafe\, 107 S 11th Street\, Nashville\, TN\, 37206\, United States
CATEGORIES:Game Gathering,Magic the Gathering
ATTACH;FMTTYPE=image/png:https://gamepointcafe.com/wp-content/uploads/2020/01/magicdraft.png
END:VEVENT
BEGIN:VEVENT
DTSTART;TZID=America/Chicago:20220613T183000
DTEND;TZID=America/Chicago:20220613T220000
DTSTAMP:20260420T081203
CREATED:20220406T183906Z
LAST-MODIFIED:20220613T174329Z
UID:10000490-1655145000-1655157600@gamepointcafe.com
SUMMARY:Magic Monday: Standard Play
DESCRIPTION:In May\, June and July\, we are testing the waters for Magic Monday: Standard Format.  For these months\, it will just be open play to see how many people are interested in the format and having an event.  Once we have an idea\, we will formally decide what we’ll do an event each month.  Hope to see you there!
URL:https://gamepointcafe.com/event/magic-monday-standard-open-play/
LOCATION:Game Point Cafe\, 107 S 11th Street\, Nashville\, TN\, 37206\, United States
CATEGORIES:Game Gathering,Magic the Gathering
ATTACH;FMTTYPE=image/png:https://gamepointcafe.com/wp-content/uploads/2022/04/mm-standard.png
END:VEVENT
BEGIN:VEVENT
DTSTART;TZID=America/Chicago:20220321T180000
DTEND;TZID=America/Chicago:20220321T220000
DTSTAMP:20260420T081203
CREATED:20220228T184612Z
LAST-MODIFIED:20220228T185305Z
UID:10000280-1647885600-1647900000@gamepointcafe.com
SUMMARY:Magic: The Gathering - Draft and a Drink
DESCRIPTION:Our Magic drafting event is back.  Formerly known as Draft and a Draught – seem idea but with wider selection.  We start off with a Magic the Gathering booster draft\, then add on to that a beer or latte of your choice.  Top that off with three rounds of Swiss with the deck you drafted\, each match win getting you a bonus pack.  It all adds up to a fun\, fun night.  $18 (tax incl.) gets you the cards for the draft\, any prize packs\, and your drink. \nSet for this draft will be Kamigawa: Neon Dynasty. \nThis isn’t Wizard Play sanctioned and usually is pretty laid back – a great way to play some Magic\, especially if you haven’t played in a while.  We start registering people at 6:00 and aim to get started by 6:30 pm. Six people minimum for the draft.  Hope you’ll come join us!
URL:https://gamepointcafe.com/event/magic-the-gathering-draft-and-a-drink/
LOCATION:TN
CATEGORIES:Game Gathering,Magic the Gathering
ATTACH;FMTTYPE=image/png:https://gamepointcafe.com/wp-content/uploads/2020/01/magicdraft.png
END:VEVENT
END:VCALENDAR